BEGIN:VCALENDAR
VERSION:2.0
PRODID:-//North Bay Country Dance Society - ECPv5.0.3.1//NONSGML v1.0//EN
CALSCALE:GREGORIAN
METHOD:PUBLISH
X-WR-CALNAME:North Bay Country Dance Society
X-ORIGINAL-URL:https://nbcds.org
X-WR-CALDESC:Events for North Bay Country Dance Society
BEGIN:VTIMEZONE
TZID:America/Los_Angeles
BEGIN:DAYLIGHT
TZOFFSETFROM:-0800
TZOFFSETTO:-0700
TZNAME:PDT
DTSTART:20220313T100000
END:DAYLIGHT
BEGIN:STANDARD
TZOFFSETFROM:-0700
TZOFFSETTO:-0800
TZNAME:PST
DTSTART:20221106T090000
END:STANDARD
END:VTIMEZONE
BEGIN:VEVENT
DTSTART;TZID=America/Los_Angeles:20220101T190000
DTEND;TZID=America/Los_Angeles:20220101T200000
DTSTAMP:20260421T151140
CREATED:20211227T205426Z
LAST-MODIFIED:20211228T074852Z
UID:5736-1641063600-1641067200@nbcds.org
SUMMARY:Saturday Evening Waltz Party on Zoom with In Tent City
DESCRIPTION:Sign up for the weekly email list to get the Zoom link. \n
URL:https://nbcds.org/event/saturday-evening-waltz-party-on-zoom-with-in-tent-city/
CATEGORIES:Saturday Evening Waltz and Tunes
END:VEVENT
END:VCALENDAR