BEGIN:VCALENDAR
VERSION:2.0
PRODID:-//North Bay Country Dance Society - ECPv5.0.3.1//NONSGML v1.0//EN
CALSCALE:GREGORIAN
METHOD:PUBLISH
X-WR-CALNAME:North Bay Country Dance Society
X-ORIGINAL-URL:https://nbcds.org
X-WR-CALDESC:Events for North Bay Country Dance Society
BEGIN:VTIMEZONE
TZID:America/Los_Angeles
BEGIN:DAYLIGHT
TZOFFSETFROM:-0800
TZOFFSETTO:-0700
TZNAME:PDT
DTSTART:20210314T100000
END:DAYLIGHT
BEGIN:STANDARD
TZOFFSETFROM:-0700
TZOFFSETTO:-0800
TZNAME:PST
DTSTART:20211107T090000
END:STANDARD
END:VTIMEZONE
BEGIN:VEVENT
DTSTART;TZID=America/Los_Angeles:20211211T190000
DTEND;TZID=America/Los_Angeles:20211211T200000
DTSTAMP:20260421T164646
CREATED:20211205T171636Z
LAST-MODIFIED:20211205T172214Z
UID:5632-1639249200-1639252800@nbcds.org
SUMMARY:Saturday Evening Waltz Party  on Zoom with Baymele: Bay Area Klezmer Trio
DESCRIPTION:
URL:https://nbcds.org/event/bay-area-klezmer-trio-on-saturday-evening-waltz-party-zoom/
CATEGORIES:Saturday Evening Waltz and Tunes
END:VEVENT
END:VCALENDAR