BEGIN:VCALENDAR
VERSION:2.0
PRODID:-//North Bay Country Dance Society - ECPv5.0.3.1//NONSGML v1.0//EN
CALSCALE:GREGORIAN
METHOD:PUBLISH
X-WR-CALNAME:North Bay Country Dance Society
X-ORIGINAL-URL:https://nbcds.org
X-WR-CALDESC:Events for North Bay Country Dance Society
BEGIN:VTIMEZONE
TZID:America/Los_Angeles
BEGIN:DAYLIGHT
TZOFFSETFROM:-0800
TZOFFSETTO:-0700
TZNAME:PDT
DTSTART:20210314T100000
END:DAYLIGHT
BEGIN:STANDARD
TZOFFSETFROM:-0700
TZOFFSETTO:-0800
TZNAME:PST
DTSTART:20211107T090000
END:STANDARD
END:VTIMEZONE
BEGIN:VEVENT
DTSTART;TZID=America/Los_Angeles:20210320T190000
DTEND;TZID=America/Los_Angeles:20210320T200000
DTSTAMP:20260422T072511
CREATED:20210315T033633Z
LAST-MODIFIED:20210315T033925Z
UID:5524-1616266800-1616270400@nbcds.org
SUMMARY:Saturday Evening Waltz and Tunes with Rebecca King and Jon Berger
DESCRIPTION: \nJon Berger and Rebecca King\, from the San Francisco North Bay have been playing tunes together for more than 20 years. Their first recording was for the compilation album Swinging On The Gate\, and they went on to record 3 more albums of English Country Dance music with the group Persons of Quality. They have traveled to play for weekends and dance camps throughout the US and internationally. Local dancers may remember them playing with the trio Flashpoint for many of the North Bay contra dances. Their SEWP concert will feature contra dance sets and original waltzes.  A set list will be provided for those who want to play along. \n
URL:https://nbcds.org/event/saturday-evening-waltz-and-tunes-with-rebecca-king-and-jon-berger/
CATEGORIES:Saturday Evening Waltz and Tunes
ORGANIZER;CN="Craig%20Meltzner":MAILTO:craig@nbcds.org
END:VEVENT
END:VCALENDAR