BEGIN:VCALENDAR
VERSION:2.0
PRODID:-//North Bay Country Dance Society - ECPv5.0.3.1//NONSGML v1.0//EN
CALSCALE:GREGORIAN
METHOD:PUBLISH
X-WR-CALNAME:North Bay Country Dance Society
X-ORIGINAL-URL:https://nbcds.org
X-WR-CALDESC:Events for North Bay Country Dance Society
BEGIN:VTIMEZONE
TZID:America/Los_Angeles
BEGIN:DAYLIGHT
TZOFFSETFROM:-0800
TZOFFSETTO:-0700
TZNAME:PDT
DTSTART:20200308T100000
END:DAYLIGHT
BEGIN:STANDARD
TZOFFSETFROM:-0700
TZOFFSETTO:-0800
TZNAME:PST
DTSTART:20201101T090000
END:STANDARD
END:VTIMEZONE
BEGIN:VEVENT
DTSTART;TZID=America/Los_Angeles:20200905T190000
DTEND;TZID=America/Los_Angeles:20200905T200000
DTSTAMP:20260422T170817
CREATED:20200825T150006Z
LAST-MODIFIED:20200906T005238Z
UID:5253-1599332400-1599336000@nbcds.org
SUMMARY:Saturday Evening Sock Hop- Rock & Roll and other Tunes with Rodney Miller
DESCRIPTION:Sock Hop! With Rodney Miller playing tunes to remind us of some of the early days of Rock n’ Roll music and dance. These tunes will also be in his new tunebook! \nDo you know any of these dances? \nThe Lindy \nBlues \nLine Dance / Two Step \nTwist and Shout \nLimbo  \nHopscotch \nRockabilly  \nThe dive \nBunny hop \nThe stroll \nThe pony \nJump rope to the music \nHula hoop! \nShare them with us on your Zoom screen. \nWant to dress up? \nPoodle skirts \nSaddle shoes \nPony tails \nLeather jackets \nTuxedo shirts \nSilly socks \nSunglasses \nBeatnik look – berets \nHair-do’s – perms\, curlers\, brylcreem \nWe can’t wait to see! \nMaybe Light Up Your Zoom Room? \nlittle lantern strings \ncolored crepe party tape \ndisco balls \nRodney is gifting a copy of his latest Stringrays CD to the best costumed AND the best dancer!  \nTip Jar: \nPayPal.Me/rodneymiller189 \nhttps://www.gofundme.com/f/rodney-miller039s-original-fiddle-tunebook \nRodney Miller \n189 Argentina Flag Way\, Sonoma\, CA 95476 \n  \n
URL:https://nbcds.org/event/saturday-evening-sock-hop-rock-roll-and-other-tunes-with-rodney-miller/
CATEGORIES:Contra Dances,Saturday Evening Waltz and Tunes
ORGANIZER;CN="Sarah%20Lee":MAILTO:sarah@nbcds.org
END:VEVENT
END:VCALENDAR