BEGIN:VCALENDAR
VERSION:2.0
PRODID:-//North Bay Country Dance Society - ECPv5.0.3.1//NONSGML v1.0//EN
CALSCALE:GREGORIAN
METHOD:PUBLISH
X-WR-CALNAME:North Bay Country Dance Society
X-ORIGINAL-URL:https://nbcds.org
X-WR-CALDESC:Events for North Bay Country Dance Society
BEGIN:VTIMEZONE
TZID:America/Los_Angeles
BEGIN:DAYLIGHT
TZOFFSETFROM:-0800
TZOFFSETTO:-0700
TZNAME:PDT
DTSTART:20200308T100000
END:DAYLIGHT
BEGIN:STANDARD
TZOFFSETFROM:-0700
TZOFFSETTO:-0800
TZNAME:PST
DTSTART:20201101T090000
END:STANDARD
END:VTIMEZONE
BEGIN:VEVENT
DTSTART;TZID=America/Los_Angeles:20200829T190000
DTEND;TZID=America/Los_Angeles:20200829T200000
DTSTAMP:20260422T183405
CREATED:20200822T153131Z
LAST-MODIFIED:20200822T153131Z
UID:5244-1598727600-1598731200@nbcds.org
SUMMARY:Saturday Evening Waltz Party with Christa Burch and Jeff Spero
DESCRIPTION:Looking forward to this amazing duo playing together for us. They will play live\, together from two separate locations with the help of sound wizard Ian Brehm. \nChrista and Jeff are part of the popular band The Syncopaths- Jeff Spero provides wonderfully inventive and surprising piano accompaniment\, anchored by the driving power of Christa Burch’s non-traditional bodhrán. Christa also lends her singular voice — warm\, supple\, expressive\, and intimate. \nEmail me for the link or sign up on the website below. Sarah@nbcds.org \n
URL:https://nbcds.org/event/saturday-evening-waltz-party-with-christa-burch-and-jeff-spero/
CATEGORIES:Contra Dances,Saturday Evening Waltz and Tunes
ATTACH;FMTTYPE=image/jpeg:https://nbcds.org/wp-content/uploads/2020/08/6D0AD799-CCBB-4F66-B189-E6D1A846E0C1.jpeg
ORGANIZER;CN="Sarah%20Lee":MAILTO:sarah@nbcds.org
END:VEVENT
END:VCALENDAR