BEGIN:VCALENDAR
VERSION:2.0
PRODID:-//North Bay Country Dance Society - ECPv5.0.3.1//NONSGML v1.0//EN
CALSCALE:GREGORIAN
METHOD:PUBLISH
X-WR-CALNAME:North Bay Country Dance Society
X-ORIGINAL-URL:https://nbcds.org
X-WR-CALDESC:Events for North Bay Country Dance Society
BEGIN:VTIMEZONE
TZID:America/Los_Angeles
BEGIN:DAYLIGHT
TZOFFSETFROM:-0800
TZOFFSETTO:-0700
TZNAME:PDT
DTSTART:20200308T100000
END:DAYLIGHT
BEGIN:STANDARD
TZOFFSETFROM:-0700
TZOFFSETTO:-0800
TZNAME:PST
DTSTART:20201101T090000
END:STANDARD
END:VTIMEZONE
BEGIN:VEVENT
DTSTART;TZID=America/Los_Angeles:20200808T190000
DTEND;TZID=America/Los_Angeles:20200808T200000
DTSTAMP:20260422T183519
CREATED:20200729T212359Z
LAST-MODIFIED:20200729T212531Z
UID:5206-1596913200-1596916800@nbcds.org
SUMMARY:Saturday Evening Waltz Party with Audrey Knuth and friends
DESCRIPTION:Celebrating our 18th SEWP with our very first performer Audrey Knuth back again by popular demand! Audrey is a fantastic fiddler\, wonderful community member and is lots of fun! Come join us\, see your friends and have a waltz or two.  \n
URL:https://nbcds.org/event/saturday-evening-waltz-party-with-audrey-knuth-and-friends/
CATEGORIES:Contra Dances,Saturday Evening Waltz and Tunes
ORGANIZER;CN="Sarah%20Lee":MAILTO:sarah@nbcds.org
END:VEVENT
END:VCALENDAR