BEGIN:VCALENDAR
VERSION:2.0
PRODID:-//North Bay Country Dance Society - ECPv5.0.3.1//NONSGML v1.0//EN
CALSCALE:GREGORIAN
METHOD:PUBLISH
X-WR-CALNAME:North Bay Country Dance Society
X-ORIGINAL-URL:https://nbcds.org
X-WR-CALDESC:Events for North Bay Country Dance Society
BEGIN:VTIMEZONE
TZID:America/Los_Angeles
BEGIN:DAYLIGHT
TZOFFSETFROM:-0800
TZOFFSETTO:-0700
TZNAME:PDT
DTSTART:20260308T100000
END:DAYLIGHT
BEGIN:STANDARD
TZOFFSETFROM:-0700
TZOFFSETTO:-0800
TZNAME:PST
DTSTART:20261101T090000
END:STANDARD
END:VTIMEZONE
BEGIN:VEVENT
DTSTART;TZID=America/Los_Angeles:20260405T183000
DTEND;TZID=America/Los_Angeles:20260405T213000
DTSTAMP:20260419T175134
CREATED:20251125T143909Z
LAST-MODIFIED:20260220T013305Z
UID:10972-1775413800-1775424600@nbcds.org
SUMMARY:Petaluma Contra
DESCRIPTION:  \nCaller: Alan Winston\nBand: Raven & Goose (Corwin Zekley & Grace Fellows)\nSound: Marty Brenneis \n  \n
URL:https://nbcds.org/event/petaluma-contra-36/
CATEGORIES:Contra Dances
END:VEVENT
END:VCALENDAR