BEGIN:VCALENDAR
VERSION:2.0
PRODID:-//North Bay Country Dance Society - ECPv5.0.3.1//NONSGML v1.0//EN
CALSCALE:GREGORIAN
METHOD:PUBLISH
X-WR-CALNAME:North Bay Country Dance Society
X-ORIGINAL-URL:https://nbcds.org
X-WR-CALDESC:Events for North Bay Country Dance Society
BEGIN:VTIMEZONE
TZID:America/Los_Angeles
BEGIN:DAYLIGHT
TZOFFSETFROM:-0800
TZOFFSETTO:-0700
TZNAME:PDT
DTSTART:20260308T100000
END:DAYLIGHT
BEGIN:STANDARD
TZOFFSETFROM:-0700
TZOFFSETTO:-0800
TZNAME:PST
DTSTART:20261101T090000
END:STANDARD
END:VTIMEZONE
BEGIN:VEVENT
DTSTART;TZID=America/Los_Angeles:20260201T183000
DTEND;TZID=America/Los_Angeles:20260201T213000
DTSTAMP:20260419T213459
CREATED:20251108T213526Z
LAST-MODIFIED:20260201T204027Z
UID:10923-1769970600-1769981400@nbcds.org
SUMMARY:Petaluma Contra
DESCRIPTION:Caller: Celia Ramsay\nBand: Rebecca King (piano) & Rodney Miller (fiddle) \n  \n
URL:https://nbcds.org/event/petaluma-contra-34/
LOCATION:St. John’s Episcopal Church\, Petaluma\, 530 C Street\, Petaluma\, CA\, 94952\, United States
CATEGORIES:Contra Dances
ORGANIZER;CN="Craig%20Meltzner":MAILTO:craig@nbcds.org
GEO:38.007923;-122.536809
X-APPLE-STRUCTURED-LOCATION;VALUE=URI;X-ADDRESS=St. John’s Episcopal Church Petaluma 530 C Street Petaluma CA 94952 United States;X-APPLE-RADIUS=500;X-TITLE=530 C Street:geo:-122.536809,38.007923
END:VEVENT
END:VCALENDAR