BEGIN:VCALENDAR
VERSION:2.0
PRODID:-//North Bay Country Dance Society - ECPv5.0.3.1//NONSGML v1.0//EN
CALSCALE:GREGORIAN
METHOD:PUBLISH
X-WR-CALNAME:North Bay Country Dance Society
X-ORIGINAL-URL:https://nbcds.org
X-WR-CALDESC:Events for North Bay Country Dance Society
BEGIN:VTIMEZONE
TZID:America/Los_Angeles
BEGIN:DAYLIGHT
TZOFFSETFROM:-0800
TZOFFSETTO:-0700
TZNAME:PDT
DTSTART:20260308T100000
END:DAYLIGHT
BEGIN:STANDARD
TZOFFSETFROM:-0700
TZOFFSETTO:-0800
TZNAME:PST
DTSTART:20261101T090000
END:STANDARD
END:VTIMEZONE
BEGIN:VEVENT
DTSTART;TZID=America/Los_Angeles:20260104T183000
DTEND;TZID=America/Los_Angeles:20260104T213000
DTSTAMP:20260419T231338
CREATED:20250611T021333Z
LAST-MODIFIED:20250830T153010Z
UID:10717-1767551400-1767562200@nbcds.org
SUMMARY:Petaluma Contra
DESCRIPTION:Happy New Year 2026! Come celebrate the first Sunday of the year with a contra dance in Petaluma. Susan Petrick will lead gender-neutral dances with special guest musicians Jeff Spero (keyboard) and Ben Jackson (fiddle).  Sound by Marty Brenneis. See you there! \n
URL:https://nbcds.org/event/petaluma-contra-33/
LOCATION:St. John’s Episcopal Church – Petaluma\, 530 C Street\, Petaluma\, 94952\, United States
CATEGORIES:Contra Dances
ORGANIZER;CN="Craig%20Meltzner":MAILTO:craig@nbcds.org
GEO:38.231247;-122.6393062
X-APPLE-STRUCTURED-LOCATION;VALUE=URI;X-ADDRESS=St. John’s Episcopal Church – Petaluma 530 C Street Petaluma 94952 United States;X-APPLE-RADIUS=500;X-TITLE=530 C Street:geo:-122.6393062,38.231247
END:VEVENT
END:VCALENDAR