BEGIN:VCALENDAR
VERSION:2.0
PRODID:-//North Bay Country Dance Society - ECPv5.0.3.1//NONSGML v1.0//EN
CALSCALE:GREGORIAN
METHOD:PUBLISH
X-WR-CALNAME:North Bay Country Dance Society
X-ORIGINAL-URL:https://nbcds.org
X-WR-CALDESC:Events for North Bay Country Dance Society
BEGIN:VTIMEZONE
TZID:America/Los_Angeles
BEGIN:DAYLIGHT
TZOFFSETFROM:-0800
TZOFFSETTO:-0700
TZNAME:PDT
DTSTART:20240310T100000
END:DAYLIGHT
BEGIN:STANDARD
TZOFFSETFROM:-0700
TZOFFSETTO:-0800
TZNAME:PST
DTSTART:20241103T090000
END:STANDARD
END:VTIMEZONE
BEGIN:VEVENT
DTSTART;TZID=America/Los_Angeles:20240818T100000
DTEND;TZID=America/Los_Angeles:20240818T180000
DTSTAMP:20260421T030205
CREATED:20221215T050316Z
LAST-MODIFIED:20240818T162807Z
UID:9333-1723975200-1724004000@nbcds.org
SUMMARY:Balance the Bay
DESCRIPTION:Just a heads-up that Balance the Bay ends this year at 6:00pm. Visit Balance the Bay 2024 for registration information for single sessions. \n
URL:https://nbcds.org/event/santa-rosa-contra-dance-26-2023-04-15-2023-06-17-2023-07-15-2023-09-30-2023-12-16-2024-08-17-2024-08-18/
LOCATION:CA\, United States
CATEGORIES:Contra Dances
ORGANIZER;CN="Chris%20Stadick":MAILTO:chrisstadick@gmail.com
GEO:36.778261;-119.4179324
END:VEVENT
END:VCALENDAR