BEGIN:VCALENDAR
VERSION:2.0
PRODID:-//North Bay Country Dance Society - ECPv5.0.3.1//NONSGML v1.0//EN
CALSCALE:GREGORIAN
METHOD:PUBLISH
X-WR-CALNAME:North Bay Country Dance Society
X-ORIGINAL-URL:https://nbcds.org
X-WR-CALDESC:Events for North Bay Country Dance Society
BEGIN:VTIMEZONE
TZID:America/Los_Angeles
BEGIN:DAYLIGHT
TZOFFSETFROM:-0800
TZOFFSETTO:-0700
TZNAME:PDT
DTSTART:20240310T100000
END:DAYLIGHT
BEGIN:STANDARD
TZOFFSETFROM:-0700
TZOFFSETTO:-0800
TZNAME:PST
DTSTART:20241103T090000
END:STANDARD
END:VTIMEZONE
BEGIN:VEVENT
DTSTART;TZID=America/Los_Angeles:20240817T190000
DTEND;TZID=America/Los_Angeles:20240817T220000
DTSTAMP:20260421T030117
CREATED:20221215T050316Z
LAST-MODIFIED:20240224T230036Z
UID:9000-1723921200-1723932000@nbcds.org
SUMMARY:No Santa Rosa contra dance - Join us at Balance the Bay on Sunday!
DESCRIPTION:Dance Cancelled! \nJoin us at the Pomeroy Center for the weekend or at after party on Sunday! \nMore details at:\nBalance the Bay 2024 \n
URL:https://nbcds.org/event/santa-rosa-contra-dance-26-2023-04-15-2023-06-17-2023-07-15-2023-09-30-2023-12-16-2024-08-17/2024-08-17/
LOCATION:Monroe Hall\, 1400 West College Ave.\, Santa Rosa\, CA\, United States
CATEGORIES:Contra Dances
ORGANIZER;CN="Chris%20Stadick":MAILTO:chrisstadick@gmail.com
GEO:38.4448309;-122.7438472
X-APPLE-STRUCTURED-LOCATION;VALUE=URI;X-ADDRESS=Monroe Hall 1400 West College Ave. Santa Rosa CA United States;X-APPLE-RADIUS=500;X-TITLE=1400 West College Ave.:geo:-122.7438472,38.4448309
END:VEVENT
END:VCALENDAR