BEGIN:VCALENDAR
VERSION:2.0
PRODID:-//North Bay Country Dance Society - ECPv5.0.3.1//NONSGML v1.0//EN
CALSCALE:GREGORIAN
METHOD:PUBLISH
X-WR-CALNAME:North Bay Country Dance Society
X-ORIGINAL-URL:https://nbcds.org
X-WR-CALDESC:Events for North Bay Country Dance Society
BEGIN:VTIMEZONE
TZID:America/Los_Angeles
BEGIN:DAYLIGHT
TZOFFSETFROM:-0800
TZOFFSETTO:-0700
TZNAME:PDT
DTSTART:20240310T100000
END:DAYLIGHT
BEGIN:STANDARD
TZOFFSETFROM:-0700
TZOFFSETTO:-0800
TZNAME:PST
DTSTART:20241103T090000
END:STANDARD
END:VTIMEZONE
BEGIN:VEVENT
DTSTART;TZID=America/Los_Angeles:20240707T183000
DTEND;TZID=America/Los_Angeles:20240707T213000
DTSTAMP:20260421T044534
CREATED:20240412T112433Z
LAST-MODIFIED:20240703T142555Z
UID:9449-1720377000-1720387800@nbcds.org
SUMMARY:Petaluma Contra
DESCRIPTION: \nOut-of-town talent playing at American Week in the Santa Cruz mountains will swing north to regale us North Bay folks in Petaluma for the July contra.  Alex Deis-Lauby hails from New York\, and she called at Epicenter in April this year. George Paul\, keyboardist for Potent Brew and many other contra bands\, established the tradition of Waltzes Before Breakfast at AmWeek and will certainly delight us with a few original waltzes during the evening. George will be joined by Steve Kemble on drums and Ben Jackson on fiddle. Be sure to add this contra dance to your summer calendar! See https://georgepaulmusic.com/videos/ for a preview. \n
URL:https://nbcds.org/event/petaluma-contra-18/
LOCATION:St. John’s Episcopal Church – Petaluma\, 530 C Street\, Petaluma\, 94952\, United States
CATEGORIES:Contra Dances
ORGANIZER;CN="Craig%20Meltzner":MAILTO:craig@nbcds.org
GEO:38.231247;-122.6393062
X-APPLE-STRUCTURED-LOCATION;VALUE=URI;X-ADDRESS=St. John’s Episcopal Church – Petaluma 530 C Street Petaluma 94952 United States;X-APPLE-RADIUS=500;X-TITLE=530 C Street:geo:-122.6393062,38.231247
END:VEVENT
END:VCALENDAR