BEGIN:VCALENDAR
VERSION:2.0
PRODID:-//North Bay Country Dance Society - ECPv5.0.3.1//NONSGML v1.0//EN
CALSCALE:GREGORIAN
METHOD:PUBLISH
X-WR-CALNAME:North Bay Country Dance Society
X-ORIGINAL-URL:https://nbcds.org
X-WR-CALDESC:Events for North Bay Country Dance Society
BEGIN:VTIMEZONE
TZID:America/Los_Angeles
BEGIN:DAYLIGHT
TZOFFSETFROM:-0800
TZOFFSETTO:-0700
TZNAME:PDT
DTSTART:20240310T100000
END:DAYLIGHT
BEGIN:STANDARD
TZOFFSETFROM:-0700
TZOFFSETTO:-0800
TZNAME:PST
DTSTART:20241103T090000
END:STANDARD
END:VTIMEZONE
BEGIN:VEVENT
DTSTART;TZID=America/Los_Angeles:20240427T190000
DTEND;TZID=America/Los_Angeles:20240427T220000
DTSTAMP:20260421T091545
CREATED:20240227T195206Z
LAST-MODIFIED:20240303T194429Z
UID:9346-1714244400-1714255200@nbcds.org
SUMMARY:San Rafael Contra (special date)
DESCRIPTION:Special 4th Saturday Contra in San Rafael \nCaller: Celia Ramsay using positional calling terms\nBand: Beth Christian\, Janette Duncan\, Roxanne Oliva\nSound: Vince Lucchesi\nDance runs 7pm to 10pm.\nInvite a friend; first-time dancers get in free…arrive 6:30 at for the orientation.\n$13 members / $15 not-yet-members / $8 youth and limited income\nYou are invited to bring snacks to share at the break. \n
URL:https://nbcds.org/event/san-rafael-contra-special-date/
LOCATION:Unitarian Universalist Congregation of Marin\, 240 Channing Way\, San Rafael\, CA 94903
CATEGORIES:Contra Dances
GEO:38.0077558;-122.5371218
X-APPLE-STRUCTURED-LOCATION;VALUE=URI;X-ADDRESS=Unitarian Universalist Congregation of Marin 240 Channing Way San Rafael CA 94903;X-APPLE-RADIUS=500;X-TITLE=240 Channing Way\, San Rafael\, CA 94903:geo:-122.5371218,38.0077558
END:VEVENT
END:VCALENDAR