BEGIN:VCALENDAR
VERSION:2.0
PRODID:-//North Bay Country Dance Society - ECPv5.0.3.1//NONSGML v1.0//EN
CALSCALE:GREGORIAN
METHOD:PUBLISH
X-WR-CALNAME:North Bay Country Dance Society
X-ORIGINAL-URL:https://nbcds.org
X-WR-CALDESC:Events for North Bay Country Dance Society
BEGIN:VTIMEZONE
TZID:America/Los_Angeles
BEGIN:DAYLIGHT
TZOFFSETFROM:-0800
TZOFFSETTO:-0700
TZNAME:PDT
DTSTART:20240310T100000
END:DAYLIGHT
BEGIN:STANDARD
TZOFFSETFROM:-0700
TZOFFSETTO:-0800
TZNAME:PST
DTSTART:20241103T090000
END:STANDARD
END:VTIMEZONE
BEGIN:VEVENT
DTSTART;TZID=America/Los_Angeles:20240309T190000
DTEND;TZID=America/Los_Angeles:20240309T220000
DTSTAMP:20260421T103938
CREATED:20231209T185316Z
LAST-MODIFIED:20240303T194033Z
UID:8965-1710010800-1710021600@nbcds.org
SUMMARY:San Rafael Contra
DESCRIPTION:Caller: Alan Winston using larks and robins terms\nBand: Uncle Dave — Kathrine Gardner (fiddle)\, Dave Courchaine (guitar)\, David Brown (banjo\, mandolin\, button accordion)\nSound: Marty Brenneis \nDance runs 7pm to 10pm.\nInvite a friend; first-time dancers get in free…arrive 6:30 at for the orientation.\n$13 members / $15 not-yet-members / $8 youth and limited income\nYou are invited to bring snacks to share at the break. \n
URL:https://nbcds.org/event/san-rafael-contra-10/
LOCATION:Unitarian Universalist Congregation of Marin\, 240 Channing Way\, San Rafael\, CA 94903
CATEGORIES:Contra Dances
GEO:38.0077558;-122.5371218
X-APPLE-STRUCTURED-LOCATION;VALUE=URI;X-ADDRESS=Unitarian Universalist Congregation of Marin 240 Channing Way San Rafael CA 94903;X-APPLE-RADIUS=500;X-TITLE=240 Channing Way\, San Rafael\, CA 94903:geo:-122.5371218,38.0077558
END:VEVENT
END:VCALENDAR