BEGIN:VCALENDAR
VERSION:2.0
PRODID:-//North Bay Country Dance Society - ECPv5.0.3.1//NONSGML v1.0//EN
CALSCALE:GREGORIAN
METHOD:PUBLISH
X-WR-CALNAME:North Bay Country Dance Society
X-ORIGINAL-URL:https://nbcds.org
X-WR-CALDESC:Events for North Bay Country Dance Society
BEGIN:VTIMEZONE
TZID:America/Los_Angeles
BEGIN:DAYLIGHT
TZOFFSETFROM:-0800
TZOFFSETTO:-0700
TZNAME:PDT
DTSTART:20230312T100000
END:DAYLIGHT
BEGIN:STANDARD
TZOFFSETFROM:-0700
TZOFFSETTO:-0800
TZNAME:PST
DTSTART:20231105T090000
END:STANDARD
END:VTIMEZONE
BEGIN:VEVENT
DTSTART;TZID=America/Los_Angeles:20231230T190000
DTEND;TZID=America/Los_Angeles:20231230T220000
DTSTAMP:20260421T150055
CREATED:20221215T050316Z
LAST-MODIFIED:20231107T040516Z
UID:8162-1703962800-1703973600@nbcds.org
SUMMARY:Santa Rosa: New Year's Eve Eve Contra
DESCRIPTION:Celebrate the New Year 2024…just a tad early:\n\nTo celebrate 2023 and usher in the New Year\, we’ve invited Dave Bartley and Marni Rachmiel from Seattle to join Shira Kammen for an evening of rousing tunes at our usual 5th Saturday Santa Rosa contra 7pm-10pm at the lovely Monroe Hall. Susan Petrick calling larks&robins.\nSound: Carlo Cabali\nManager: Karen Frazier / Chris Stadick\n\nBeginners lesson at 6:30 PM! Please refrain from wearing fragrances or scented products.\nPlease bring your own water bottles.\nSnacks will be available and feel welcome to bring some.  We’ll have a (non-alcoholic) toast to the New Year at the close of the evening.\nAdmission: $13 NBCDS/BACDS members; $15 non-members; or $8 limited income\n\n
URL:https://nbcds.org/event/santa-rosa-contra-dance-12-30-2023/
LOCATION:Monroe Hall\, 1400 West College Ave.\, Santa Rosa\, CA\, United States
CATEGORIES:Contra Dances
ORGANIZER;CN="Chris%20Stadick":MAILTO:chrisstadick@gmail.com
GEO:38.4448309;-122.7438472
X-APPLE-STRUCTURED-LOCATION;VALUE=URI;X-ADDRESS=Monroe Hall 1400 West College Ave. Santa Rosa CA United States;X-APPLE-RADIUS=500;X-TITLE=1400 West College Ave.:geo:-122.7438472,38.4448309
END:VEVENT
END:VCALENDAR