BEGIN:VCALENDAR
VERSION:2.0
PRODID:-//North Bay Country Dance Society - ECPv5.0.3.1//NONSGML v1.0//EN
CALSCALE:GREGORIAN
METHOD:PUBLISH
X-WR-CALNAME:North Bay Country Dance Society
X-ORIGINAL-URL:https://nbcds.org
X-WR-CALDESC:Events for North Bay Country Dance Society
BEGIN:VTIMEZONE
TZID:America/Los_Angeles
BEGIN:DAYLIGHT
TZOFFSETFROM:-0800
TZOFFSETTO:-0700
TZNAME:PDT
DTSTART:20230312T100000
END:DAYLIGHT
BEGIN:STANDARD
TZOFFSETFROM:-0700
TZOFFSETTO:-0800
TZNAME:PST
DTSTART:20231105T090000
END:STANDARD
END:VTIMEZONE
BEGIN:VEVENT
DTSTART;TZID=America/Los_Angeles:20231001T180000
DTEND;TZID=America/Los_Angeles:20231001T213000
DTSTAMP:20260421T175159
CREATED:20230806T221133Z
LAST-MODIFIED:20230925T223359Z
UID:8523-1696183200-1696195800@nbcds.org
SUMMARY:Petaluma Contra
DESCRIPTION:Band: Beth Christian\, Janette Duncan\, Roxanne Oliva\nCaller: Erik Hoffman calling larks and robins\nSound: Vince Lucchesi \n\nCram Hall is at St. John’s Episcopal and is located at 530 C Street between Fifth and Sixth Streets in Petaluma. Parking lot adjacent to the Hall at the corner of C and Sixth.\nArrive by 6pm for the newcomers’ orientation. Dance runs 6:30- 9:30pm\nAdmission: $13 NBCDS/BACDS members; $15 not-yet-members; $8 youth / limited income.  First time dancers get in FREE!\nYou are invited to bring snacks to share and a reusable water bottle.\nNBCDS dances are fragrance-free.\nCurrently\, NBCDS contras are mask-optional\, and dance organizers *may* opt to recommend or require masks. The NBCDS Safety Committee makes weekly assessments of data about viral loads in wastewater to inform recommendations about masking.  If you are feeling ill\, please dance with us another time — thanks for helping to keep transmission of COVID-19 and other illness to a minimum.\n\n
URL:https://nbcds.org/event/petaluma-contra-11/
LOCATION:St. John’s Episcopal Church – Petaluma\, 530 C Street\, Petaluma\, 94952\, United States
CATEGORIES:Contra Dances
ORGANIZER;CN="Craig%20Meltzner":MAILTO:craig@nbcds.org
GEO:38.231247;-122.6393062
X-APPLE-STRUCTURED-LOCATION;VALUE=URI;X-ADDRESS=St. John’s Episcopal Church – Petaluma 530 C Street Petaluma 94952 United States;X-APPLE-RADIUS=500;X-TITLE=530 C Street:geo:-122.6393062,38.231247
END:VEVENT
END:VCALENDAR