BEGIN:VCALENDAR
VERSION:2.0
PRODID:-//North Bay Country Dance Society - ECPv5.0.3.1//NONSGML v1.0//EN
CALSCALE:GREGORIAN
METHOD:PUBLISH
X-WR-CALNAME:North Bay Country Dance Society
X-ORIGINAL-URL:https://nbcds.org
X-WR-CALDESC:Events for North Bay Country Dance Society
BEGIN:VTIMEZONE
TZID:America/Los_Angeles
BEGIN:DAYLIGHT
TZOFFSETFROM:-0800
TZOFFSETTO:-0700
TZNAME:PDT
DTSTART:20230312T100000
END:DAYLIGHT
BEGIN:STANDARD
TZOFFSETFROM:-0700
TZOFFSETTO:-0800
TZNAME:PST
DTSTART:20231105T090000
END:STANDARD
END:VTIMEZONE
BEGIN:VEVENT
DTSTART;TZID=America/Los_Angeles:20230610T190000
DTEND;TZID=America/Los_Angeles:20230610T220000
DTSTAMP:20260421T235505
CREATED:20230103T001317Z
LAST-MODIFIED:20230607T023728Z
UID:7857-1686423600-1686434400@nbcds.org
SUMMARY:San Rafael Contra
DESCRIPTION:\n \nCaller: Kalia Kliban\nBand: Roguery (Dave Bartley\, Anita Anderson\, Jim Oakden\, Shira Kammen)\nSound: Marty Brenneis\nDancers: A bunch of folks\, including you! \nImmerse yourself in the magical music of Roguery as they gear up for BACDS Hey Days week with a rollicking contra.  Have a listen: Ursa Minor. \n\nMasks are currently optional at our contra dance series. While we strongly encourage vaccination and boosters\, we no longer require them. Please do not attend if you are feeling unwell! Thanks for your support in keeping the transmission of COVID-19 and other infections to a minimum. \n\nWe’ll be at the usual location: UUCM (Unitarian Universalist Congregration of Marin) at 240 Channing Way in San Rafael.\n\nNewcomers’ orientation around 6:30 pm with the dance from 7pm-10pm. Kalia will be calling larks-and-robins.\n\nAdmission: $13 NBCDS/BACDS/CDSS members; $15 not-yet-members; $8 pay as you can/limited income. First time dancers get in free — bring your friends & family and show up by 6:30 for the orientation. \n\n* NBCDS dances are fragrance-free events.\n* Bring a water bottle & stay hydrated.\n* You are invited to bring snacks to share at the break.\n
URL:https://nbcds.org/event/san-rafael-contra-4/
LOCATION:Unitarian Universalist Congregation of Marin\, 240 Channing Way\, San Rafael\, CA 94903
CATEGORIES:Contra Dances
GEO:38.0077558;-122.5371218
X-APPLE-STRUCTURED-LOCATION;VALUE=URI;X-ADDRESS=Unitarian Universalist Congregation of Marin 240 Channing Way San Rafael CA 94903;X-APPLE-RADIUS=500;X-TITLE=240 Channing Way\, San Rafael\, CA 94903:geo:-122.5371218,38.0077558
END:VEVENT
END:VCALENDAR