BEGIN:VCALENDAR
VERSION:2.0
PRODID:-//North Bay Country Dance Society - ECPv5.0.3.1//NONSGML v1.0//EN
CALSCALE:GREGORIAN
METHOD:PUBLISH
X-WR-CALNAME:North Bay Country Dance Society
X-ORIGINAL-URL:https://nbcds.org
X-WR-CALDESC:Events for North Bay Country Dance Society
BEGIN:VTIMEZONE
TZID:America/Los_Angeles
BEGIN:DAYLIGHT
TZOFFSETFROM:-0800
TZOFFSETTO:-0700
TZNAME:PDT
DTSTART:20230312T100000
END:DAYLIGHT
BEGIN:STANDARD
TZOFFSETFROM:-0700
TZOFFSETTO:-0800
TZNAME:PST
DTSTART:20231105T090000
END:STANDARD
END:VTIMEZONE
BEGIN:VEVENT
DTSTART;TZID=America/Los_Angeles:20230507T183000
DTEND;TZID=America/Los_Angeles:20230507T213000
DTSTAMP:20260422T012232
CREATED:20230104T231925Z
LAST-MODIFIED:20230507T234947Z
UID:7883-1683484200-1683495000@nbcds.org
SUMMARY:Petaluma Contra Dance
DESCRIPTION:Band: Rebecca King (piano)\, Rodney Miller (fiddle) \nCaller: Kalia Kliban \nSound: Ray Grott \nCram Hall is at St. John’s Episcopal and is located at 530 C Street between Fifth and Sixth Streets in Petaluma. Parking lot adjacent to the Hall at the corner of C and Sixth. \nThe dance will be from 6:30 – 9:30 p.m. \nAdmission: $13 NBCDS/BACDS members; $15 non-members; or $8 limited income \nCOVID precautions depend on the weekly CDC Community Level; as of May 4\, Sonoma County is in the green level\, so well-fitting cloth or surgical masks are sufficient\, though N95 masks are recommended.  Vaccination is strongly encouraged but not required.  Please stay home if you feel ill.  Thanks for your support in keeping the transmission of COVID and other illnesses to a minimum. \n
URL:https://nbcds.org/event/petaluma-contra-6/
LOCATION:St. John’s Episcopal Church – Petaluma\, 530 C Street\, Petaluma\, 94952\, United States
CATEGORIES:Contra Dances
GEO:38.231247;-122.6393062
X-APPLE-STRUCTURED-LOCATION;VALUE=URI;X-ADDRESS=St. John’s Episcopal Church – Petaluma 530 C Street Petaluma 94952 United States;X-APPLE-RADIUS=500;X-TITLE=530 C Street:geo:-122.6393062,38.231247
END:VEVENT
END:VCALENDAR