BEGIN:VCALENDAR
VERSION:2.0
PRODID:-//North Bay Country Dance Society - ECPv5.0.3.1//NONSGML v1.0//EN
CALSCALE:GREGORIAN
METHOD:PUBLISH
X-WR-CALNAME:North Bay Country Dance Society
X-ORIGINAL-URL:https://nbcds.org
X-WR-CALDESC:Events for North Bay Country Dance Society
BEGIN:VTIMEZONE
TZID:America/Los_Angeles
BEGIN:DAYLIGHT
TZOFFSETFROM:-0800
TZOFFSETTO:-0700
TZNAME:PDT
DTSTART:20230312T100000
END:DAYLIGHT
BEGIN:STANDARD
TZOFFSETFROM:-0700
TZOFFSETTO:-0800
TZNAME:PST
DTSTART:20231105T090000
END:STANDARD
END:VTIMEZONE
BEGIN:VEVENT
DTSTART;TZID=America/Los_Angeles:20230305T183000
DTEND;TZID=America/Los_Angeles:20230305T213000
DTSTAMP:20260422T044400
CREATED:20221212T201550Z
LAST-MODIFIED:20230220T232151Z
UID:7756-1678041000-1678051800@nbcds.org
SUMMARY:PETALUMA CONTRA
DESCRIPTION:Band: Will Wheeler\, guitar & foot percussion\, Anne Goess\, fiddle\, Charlie Hancock\, accordion \nCaller: Warren Blier \nSound: Marty Brenneis \nCram Hall is at St. John’s Episcopal and is located at 530 C Street between Fifth and Sixth Streets in Petaluma. Parking lot adjacent to the Hall at the corner of C and Sixth. \nThe dance will be from 6:30 – 9:00 p.m. \nAdmission: $13 NBCDS/BACDS members; $15 non-members; or $8 limited income – first-time North Bay dancers receive free admission! \nCovid precautions depend on the weekly CDC Community Level. Please review our current policy on our website home page.  \nPlease do not wear scents or fragrances to the dance as some dancers have chemical sensitivities. \n
URL:https://nbcds.org/event/petaluma-contra-4/
LOCATION:St. John’s Episcopal Church – Petaluma\, 530 C Street\, Petaluma\, 94952\, United States
CATEGORIES:Contra Dances
GEO:38.231247;-122.6393062
X-APPLE-STRUCTURED-LOCATION;VALUE=URI;X-ADDRESS=St. John’s Episcopal Church – Petaluma 530 C Street Petaluma 94952 United States;X-APPLE-RADIUS=500;X-TITLE=530 C Street:geo:-122.6393062,38.231247
END:VEVENT
END:VCALENDAR