BEGIN:VCALENDAR
VERSION:2.0
PRODID:-//North Bay Country Dance Society - ECPv5.0.3.1//NONSGML v1.0//EN
CALSCALE:GREGORIAN
METHOD:PUBLISH
X-WR-CALNAME:North Bay Country Dance Society
X-ORIGINAL-URL:https://nbcds.org
X-WR-CALDESC:Events for North Bay Country Dance Society
BEGIN:VTIMEZONE
TZID:America/Los_Angeles
BEGIN:DAYLIGHT
TZOFFSETFROM:-0800
TZOFFSETTO:-0700
TZNAME:PDT
DTSTART:20230312T100000
END:DAYLIGHT
BEGIN:STANDARD
TZOFFSETFROM:-0700
TZOFFSETTO:-0800
TZNAME:PST
DTSTART:20231105T090000
END:STANDARD
END:VTIMEZONE
BEGIN:VEVENT
DTSTART;TZID=America/Los_Angeles:20230303T193000
DTEND;TZID=America/Los_Angeles:20230303T210000
DTSTAMP:20260422T044315
CREATED:20230301T040922Z
LAST-MODIFIED:20230301T041715Z
UID:8110-1677871800-1677877200@nbcds.org
SUMMARY:Gangspil in Concert
DESCRIPTION:\nGANGSPIL: Danish Duo in Concert this Friday\, March 3 at 7:30pm Gather with us at Wishemann Hall\, 465 Morris St in Sebastopol to hear Sonnich Lydom on accordion\, harmonica and vocals\, and Kristian Bugge on fiddle and vocals\, as they perform dance tunes and long forgotten songs from every corner of Denmark\, from rural islands to metropolitan Copenhagen\, along with their own compositions.  Sonnich and Kristian offer an unforgettable musical experience warmly spiced with humor and stories from their many years on many roads. \n\n\n\nGangspil is a well-known band in trad and folk circles in Scandinavia and abroad.  In 2016\, they received the “Tradition Award” at the Danish Music Awards aka the Danish Grammies.  Listen here as they play on the streets of Copenhagen\, then join us at Wischemann for lively music in an intimate setting. Sliding Scale: Adults – $15-30; Children (welcome!) – $8-12. Reserve your tickets by emailing Susan Amato at skamato@hotmail.com  or purchase at the door. This is an NBCDS-sponsored event. Proof of vaccination & mask required. Thanks for your support in keeping the transmission of COVID-19 and other infections to a minimum. \n
URL:https://nbcds.org/event/gangspil-in-concert/
LOCATION:Wischemann Hall\, 465 Morris St.\, Sebastopol\, CA\, United States
CATEGORIES:Contra Dances
ORGANIZER;CN="Susan%20Amato":MAILTO:skamato@hotmail.com
GEO:38.4086229;-122.8208861
X-APPLE-STRUCTURED-LOCATION;VALUE=URI;X-ADDRESS=Wischemann Hall 465 Morris St. Sebastopol CA United States;X-APPLE-RADIUS=500;X-TITLE=465 Morris St.:geo:-122.8208861,38.4086229
END:VEVENT
END:VCALENDAR