BEGIN:VCALENDAR
VERSION:2.0
PRODID:-//North Bay Country Dance Society - ECPv5.0.3.1//NONSGML v1.0//EN
CALSCALE:GREGORIAN
METHOD:PUBLISH
X-WR-CALNAME:North Bay Country Dance Society
X-ORIGINAL-URL:https://nbcds.org
X-WR-CALDESC:Events for North Bay Country Dance Society
BEGIN:VTIMEZONE
TZID:America/Los_Angeles
BEGIN:DAYLIGHT
TZOFFSETFROM:-0800
TZOFFSETTO:-0700
TZNAME:PDT
DTSTART:20230312T100000
END:DAYLIGHT
BEGIN:STANDARD
TZOFFSETFROM:-0700
TZOFFSETTO:-0800
TZNAME:PST
DTSTART:20231105T090000
END:STANDARD
END:VTIMEZONE
BEGIN:VEVENT
DTSTART;TZID=America/Los_Angeles:20230101T183000
DTEND;TZID=America/Los_Angeles:20230101T213000
DTSTAMP:20260422T080950
CREATED:20221023T192157Z
LAST-MODIFIED:20221230T055439Z
UID:7441-1672597800-1672608600@nbcds.org
SUMMARY:New Year's Day Contra in Petaluma
DESCRIPTION:Contra celebration with Rodney Miller (fiddle) and Rebecca King (piano) at St John’s in Petaluma. Calling by Tina Fields and Ed Hall. Sound by Marty Brenneis. Consider attending the English Country dance (same great musicians) in the same location 2:00-4:30pm and meet up with friends for dinner in town between the dances. \n
URL:https://nbcds.org/event/new-years-day-contra-in-petaluma/
LOCATION:St. John’s Episcopal Church – Petaluma\, 530 C Street\, Petaluma\, 94952\, United States
CATEGORIES:Contra Dances
ORGANIZER;CN="Craig%20Meltzner":MAILTO:craig@nbcds.org
GEO:38.231247;-122.6393062
X-APPLE-STRUCTURED-LOCATION;VALUE=URI;X-ADDRESS=St. John’s Episcopal Church – Petaluma 530 C Street Petaluma 94952 United States;X-APPLE-RADIUS=500;X-TITLE=530 C Street:geo:-122.6393062,38.231247
END:VEVENT
END:VCALENDAR