BEGIN:VCALENDAR
VERSION:2.0
PRODID:-//North Bay Country Dance Society - ECPv5.0.3.1//NONSGML v1.0//EN
CALSCALE:GREGORIAN
METHOD:PUBLISH
X-WR-CALNAME:North Bay Country Dance Society
X-ORIGINAL-URL:https://nbcds.org
X-WR-CALDESC:Events for North Bay Country Dance Society
BEGIN:VTIMEZONE
TZID:America/Los_Angeles
BEGIN:DAYLIGHT
TZOFFSETFROM:-0800
TZOFFSETTO:-0700
TZNAME:PDT
DTSTART:20220313T100000
END:DAYLIGHT
BEGIN:STANDARD
TZOFFSETFROM:-0700
TZOFFSETTO:-0800
TZNAME:PST
DTSTART:20221106T090000
END:STANDARD
END:VTIMEZONE
BEGIN:VEVENT
DTSTART;TZID=America/Los_Angeles:20220619T090000
DTEND;TZID=America/Los_Angeles:20220619T140000
DTSTAMP:20260425T193329
CREATED:20220228T042950Z
LAST-MODIFIED:20220606T201600Z
UID:6091-1655629200-1655647200@nbcds.org
SUMMARY:FAULTLINE FROLIC
DESCRIPTION:Caller: Frannie Marr (So California) \nBand: Notorious\nLarry Unger (guitar) (Massachusetts)\nSam Bartlett (mandolin) (Indiana)\nMark “Pokey” Hellenberg (percussion) (Ohio)\nBetsy Branch (fiddle) (Oregon) \nSound: Marty Brenneis \n
URL:https://nbcds.org/event/faultline-frolic-4/
CATEGORIES:Contra Dances
END:VEVENT
BEGIN:VEVENT
DTSTART;TZID=America/Los_Angeles:20220619T183000
DTEND;TZID=America/Los_Angeles:20220619T210000
DTSTAMP:20260425T193329
CREATED:20220511T180105Z
LAST-MODIFIED:20220606T201917Z
UID:6744-1655663400-1655672400@nbcds.org
SUMMARY:Post-Faultline "Aftershock" Petaluma Contra
DESCRIPTION:Caller: Frannie Marr (So California) \nBand: Larry Unger (guitar) (Massachusetts)\, Sam Bartlett (mandolin) (Indiana)\, Mark (Pokey) Hellenberg (percussion) (Ohio)\,  Audrey Knuth (fiddle) \nSound: Marty Brenneis \nAdmission: $15 NBCDS/BACDS members; $17 non-members; or $10 limited income \nFaultline Frolic weekend attendees dance free – the dance is included in the weekend registration\n \nCOVID POLICY: Dancers will need to be confirmed vaccinated and boosted\, and masked while dancing. See the most recent NBCDS COVID Policy for possible additional requirements. \nCram Hall is at St. John’s Episcopal and is located at 530 C Street between Fifth and Sixth Streets in Petaluma. Parking lot adjacent to the Hall at the corner of C and Sixth. \n
URL:https://nbcds.org/event/post-faultline-petaluma-contra/
LOCATION:St. John’s Episcopal Church – Petaluma\, 530 C Street\, Petaluma\, 94952\, United States
CATEGORIES:Contra Dances
ORGANIZER;CN="Craig%20Meltzner":MAILTO:craig@nbcds.org
GEO:38.231247;-122.6393062
X-APPLE-STRUCTURED-LOCATION;VALUE=URI;X-ADDRESS=St. John’s Episcopal Church – Petaluma 530 C Street Petaluma 94952 United States;X-APPLE-RADIUS=500;X-TITLE=530 C Street:geo:-122.6393062,38.231247
END:VEVENT
END:VCALENDAR