BEGIN:VCALENDAR
VERSION:2.0
PRODID:-//North Bay Country Dance Society - ECPv5.0.3.1//NONSGML v1.0//EN
CALSCALE:GREGORIAN
METHOD:PUBLISH
X-WR-CALNAME:North Bay Country Dance Society
X-ORIGINAL-URL:https://nbcds.org
X-WR-CALDESC:Events for North Bay Country Dance Society
BEGIN:VTIMEZONE
TZID:America/Los_Angeles
BEGIN:DAYLIGHT
TZOFFSETFROM:-0800
TZOFFSETTO:-0700
TZNAME:PDT
DTSTART:20220313T100000
END:DAYLIGHT
BEGIN:STANDARD
TZOFFSETFROM:-0700
TZOFFSETTO:-0800
TZNAME:PST
DTSTART:20221106T090000
END:STANDARD
END:VTIMEZONE
BEGIN:VEVENT
DTSTART;TZID=America/Los_Angeles:20220617T200000
DTEND;TZID=America/Los_Angeles:20220617T230000
DTSTAMP:20260425T220701
CREATED:20220228T042208Z
LAST-MODIFIED:20220606T201209Z
UID:6087-1655496000-1655506800@nbcds.org
SUMMARY:FAULTLINE FROLIC
DESCRIPTION:SPECIAL EVENT Registration \nHall opens at 7pm; dancing starts at 8pm\nCaller: Frannie Marr (So California) \nBand: Notorious\nLarry Unger (guitar) (Massachusetts)\nSam Bartlett (mandolin) (Indiana)\nMark “Pokey” Hellenberg (percussion) (Ohio)\nBetsy Branch (fiddle) (Oregon) \nSound: Marty Brenneis \n
URL:https://nbcds.org/event/faultline-frolic-2/
LOCATION:Monroe Hall\, 1400 West College Ave.\, Santa Rosa\, CA\, United States
CATEGORIES:Contra Dances
GEO:38.4448309;-122.7438472
X-APPLE-STRUCTURED-LOCATION;VALUE=URI;X-ADDRESS=Monroe Hall 1400 West College Ave. Santa Rosa CA United States;X-APPLE-RADIUS=500;X-TITLE=1400 West College Ave.:geo:-122.7438472,38.4448309
END:VEVENT
END:VCALENDAR