BEGIN:VCALENDAR
VERSION:2.0
PRODID:-//North Bay Country Dance Society - ECPv5.0.3.1//NONSGML v1.0//EN
CALSCALE:GREGORIAN
METHOD:PUBLISH
X-WR-CALNAME:North Bay Country Dance Society
X-ORIGINAL-URL:https://nbcds.org
X-WR-CALDESC:Events for North Bay Country Dance Society
BEGIN:VTIMEZONE
TZID:America/Los_Angeles
BEGIN:DAYLIGHT
TZOFFSETFROM:-0800
TZOFFSETTO:-0700
TZNAME:PDT
DTSTART:20260308T100000
END:DAYLIGHT
BEGIN:STANDARD
TZOFFSETFROM:-0700
TZOFFSETTO:-0800
TZNAME:PST
DTSTART:20261101T090000
END:STANDARD
END:VTIMEZONE
BEGIN:VEVENT
DTSTART;TZID=America/Los_Angeles:20260214T140000
DTEND;TZID=America/Los_Angeles:20260214T140000
DTSTAMP:20260420T150335
CREATED:20251215T031533Z
LAST-MODIFIED:20251215T031650Z
UID:11052-1771077600-1771077600@nbcds.org
SUMMARY:Marin English Country Dance
DESCRIPTION:\nFebruary 14\, 2026 @ 2:00 pm – 4:30 pm\n\n\n\nCaller: Kalia Kliban \nMusicians: Rebecca King\, Jon Berger\, Robin Lockner \nBeginners: Beginners are welcome. No experience or partner necessary. Come to the beginners lesson at 1:45. \nAdmission: $15 members\, $20 non-members\, $10 ages 19-30 \nWhere: The Almonte Club House\, 106 Wisteria Way Mill Valley \nParking: The best place to park is the large\, dirt parking area to the left as  you turn onto Almonte Avenue. Please do not park on Wisteria Way or Lavender Lane. The few parking spaces beside the hall are reserved for the caller\, musicians and dance manager. Thank you! \nContributions of finger-food type snacks are appreciated\, if you feel inclined. Bring a water bottle for yourself. \nThe dance is mask optional\, but please remember that if you are not feeling well\, even if you believe it is just a cold\, please take care of yourself and stay home. We want to see you but want to make sure we minimize risks to other dancers.  Attending also requires you to sign in with your name and contact information and agree to notify the NBCDS if you develop Covid within a week of attending the dance.  This is also a fragrance-free event for the health of all our dancers. \nDance Managers: Maggie Moore and Cynthia Holden \nSeries Programmer: Maggie Moore \n\n\n
URL:https://nbcds.org/event/marin-english-country-dance-10/
CATEGORIES:English Country Dance
END:VEVENT
BEGIN:VEVENT
DTSTART;TZID=America/Los_Angeles:20260214T190000
DTEND;TZID=America/Los_Angeles:20260214T220000
DTSTAMP:20260420T150335
CREATED:20251108T213702Z
LAST-MODIFIED:20260210T011707Z
UID:10925-1771095600-1771106400@nbcds.org
SUMMARY:San Rafael Contra
DESCRIPTION:Come celebrate Valentine’s Day with all your favorite contra dancers! Dance runs 7pm to 10pm. See you there. \n  \nBand: Persons in Black (David Wright\, Sue Jones\, Clark Smith) \nCaller Celia Ramsay \nSound Marty Brenneis (look for the guy in red) \n
URL:https://nbcds.org/event/san-rafael-contra-31/
LOCATION:Unitarian Universalist Congregation of Marin\, 240 Channing Way\, San Rafael\, CA 94903
CATEGORIES:Contra Dances
GEO:38.0077558;-122.5371218
X-APPLE-STRUCTURED-LOCATION;VALUE=URI;X-ADDRESS=Unitarian Universalist Congregation of Marin 240 Channing Way San Rafael CA 94903;X-APPLE-RADIUS=500;X-TITLE=240 Channing Way\, San Rafael\, CA 94903:geo:-122.5371218,38.0077558
END:VEVENT
END:VCALENDAR