BEGIN:VCALENDAR
VERSION:2.0
PRODID:-//North Bay Country Dance Society - ECPv5.0.3.1//NONSGML v1.0//EN
CALSCALE:GREGORIAN
METHOD:PUBLISH
X-WR-CALNAME:North Bay Country Dance Society
X-ORIGINAL-URL:https://nbcds.org
X-WR-CALDESC:Events for North Bay Country Dance Society
BEGIN:VTIMEZONE
TZID:America/Los_Angeles
BEGIN:DAYLIGHT
TZOFFSETFROM:-0800
TZOFFSETTO:-0700
TZNAME:PDT
DTSTART:20250309T100000
END:DAYLIGHT
BEGIN:STANDARD
TZOFFSETFROM:-0700
TZOFFSETTO:-0800
TZNAME:PST
DTSTART:20251102T090000
END:STANDARD
END:VTIMEZONE
BEGIN:VEVENT
DTSTART;TZID=America/Los_Angeles:20251207T140000
DTEND;TZID=America/Los_Angeles:20251207T163000
DTSTAMP:20260420T182614
CREATED:20220327T231021Z
LAST-MODIFIED:20250922T013355Z
UID:8959-1765116000-1765125000@nbcds.org
SUMMARY:Sebastopol English Country Dance/NBCDS Gratitude Dance
DESCRIPTION:Venue Change!  Today’s dance is at St. John’s Church Hall\, 530 C Street (between 5th and 6th) in Petaluma.  There will be a potluck dinner and a contra in the evening.\nCaller: Frannie Marr\nBand: Rebecca King (piano)\, Rodney Miller (violin) \n\nEnglish Country Dance 2:00 – 4:30\nThe usual Sebastopol ECD will gather instead in Petaluma at St John’s Cram Hall from 2:00-4:30. Beginners welcome.\nCommunity Potluck Dinner 4:45-6:00\nNBCDS will provide main dishes (thanks again to Chef Val McKamey!) Please bring a salad\, side\, or dessert to share.\nContra Dance 6:30 – 9:30\nSame wonderful caller & musicians. Newcomers welcome — arrive by 6:10 for a brief orientation.\n\nPlease note: Our 3rd and 5th Sunday dances are now mask-optional.  For our 1st Sunday dances\, we still require that you wear an appropriate mask.  N95\, KN95\, KF94 and technical cloth masks\, such as Enro Tech Mask\, Happy Mask Pro\, Proper Cloth Mask\, Graf Lantz Zenbu Mask\, and Kitsbow Face Mask\, are acceptable. Your old cloth masks will need to be retired for our dance\, sorry.  During the break we ask dancers to keep their masks on while collecting snacks in the kitchen and waiting to unmask until outdoors. \nNew dancers are welcome and should come early for new dancer instruction at 1:45 (no partner necessary). Wear smooth-soled\, low-heeled shoes. Admission is $13 for members and affiliates\, $15 for non-members\, $5 for dancers 30 or younger.  If you’re comfortably able to pay the $15\, those few extra dollars will help support our series as we all recover from the pandemic.  This is a fragrance-free event\, so no perfume or scented products please. \n— If you are not feeling well the day of the dance please stay home to protect yourself and others. \n— Please avoid wearing any scented products. \n— Please mention the dance to friends! \nTom Spittler and Kathy Woeltjen\, dance managers\nKalia Kliban\, series programmer \n
URL:https://nbcds.org/event/sebastopol-english-country-dance-54-2023-01-01-2023-01-15-2023-03-19-2023-07-02-2023-10-01-2025-12-07/
LOCATION:St. John’s Episcopal Church – Petaluma\, 530 C Street\, Petaluma\, 94952\, United States
CATEGORIES:English Country Dance
ORGANIZER;CN="Tom%20Spittler":MAILTO:tspittler@gmail.com
GEO:38.231247;-122.6393062
X-APPLE-STRUCTURED-LOCATION;VALUE=URI;X-ADDRESS=St. John’s Episcopal Church – Petaluma 530 C Street Petaluma 94952 United States;X-APPLE-RADIUS=500;X-TITLE=530 C Street:geo:-122.6393062,38.231247
END:VEVENT
BEGIN:VEVENT
DTSTART;TZID=America/Los_Angeles:20251207T140000
DTEND;TZID=America/Los_Angeles:20251207T163000
DTSTAMP:20260420T182614
CREATED:20220327T231021Z
LAST-MODIFIED:20220327T231021Z
UID:11403-1765116000-1765125000@nbcds.org
SUMMARY:Sebastopol English Country Dance
DESCRIPTION:Caller: Alan Winston\nBand: Corwin Zekley (fiddle) and Grace Fellows (piano) \nPlease note: Our 3rd and 5th Sunday dances are now mask-optional.  For our 1st Sunday dances\, we still require that you wear an appropriate mask.  N95\, KN95\, KF94 and technical cloth masks\, such as Enro Tech Mask\, Happy Mask Pro\, Proper Cloth Mask\, Graf Lantz Zenbu Mask\, and Kitsbow Face Mask\, are acceptable. Your old cloth masks will need to be retired for our dance\, sorry.  During the break we ask dancers to keep their masks on while collecting snacks in the kitchen and waiting to unmask until outdoors. \nNew dancers are welcome and should come early for new dancer instruction at 1:45 (no partner necessary). Wear smooth-soled\, low-heeled shoes. Admission is $13 for members and affiliates\, $15 for non-members\, $5 for dancers 30 or younger.  If you’re comfortably able to pay the $15\, those few extra dollars will help support our series as we all recover from the pandemic.  This is a fragrance-free event\, so no perfume or scented products please. \n— There is a limit of 48 attendees\, and preregistration is encouraged (though not required). To preregister\, please email Tom at tspittler@gmail.com. \n— If you are not feeling well the day of the dance please stay home to protect yourself and others. \n— Please avoid wearing any scented products. \n— Please mention the dance to friends! \nTom Spittler and Kathy Woeltjen\, dance managers\nKalia Kliban\, series programmer \n
URL:https://nbcds.org/event/sebastopol-english-country-dance-54-2023-01-01-2023-01-15-2023-03-19-2023-07-02-2023-10-01/2025-12-07/
LOCATION:Wischemann Hall\, 465 Morris St.\, Sebastopol\, CA\, United States
CATEGORIES:English Country Dance
ORGANIZER;CN="Tom%20Spittler":MAILTO:tspittler@gmail.com
GEO:38.4086229;-122.8208861
X-APPLE-STRUCTURED-LOCATION;VALUE=URI;X-ADDRESS=Wischemann Hall 465 Morris St. Sebastopol CA United States;X-APPLE-RADIUS=500;X-TITLE=465 Morris St.:geo:-122.8208861,38.4086229
END:VEVENT
BEGIN:VEVENT
DTSTART;TZID=America/Los_Angeles:20251207T140000
DTEND;TZID=America/Los_Angeles:20251207T213000
DTSTAMP:20260420T182614
CREATED:20250611T021526Z
LAST-MODIFIED:20251121T132950Z
UID:10719-1765116000-1765143000@nbcds.org
SUMMARY:Annual Gratitude Celebration: ECD & Contra (with dinner)
DESCRIPTION:Come celebrate community connection with us at our annual North Bay Country Dance Gratitude Celebration. \nFrannie Marr\, SoCal caller\, will lead dances for both ECD and contra. Rebecca King (piano) and Rodney Miller (fiddle) will provide gorgeous music for the whole event. Marty Brenneis on sound. \nRebecca King & Rodney Miller \n \n  \n\nEnglish Country Dance 2:00 – 4:30\nThe usual Sebastopol ECD will gather instead in Petaluma at St John’s Cram Hall from 2:00-4:30. Beginners welcome.\nCommunity Potluck Dinner 4:45-6:00\nNBCDS will provide main dishes (thanks again to Chef Val McKamey!) Please bring a salad\, side\, or dessert to share.\nContra Dance 6:30 – 9:30\nSame wonderful caller & musicians. Newcomers welcome — arrive by 6:10 for a brief orientation.\n\nWe especially hope to have our ECD and contra communities overlap and enjoy dancing together on this day.  Come for all or part of the day…we look forward to celebrating with you. \n
URL:https://nbcds.org/event/gratitude-celebration-2025/
LOCATION:St. John’s Episcopal Church – Petaluma\, 530 C Street\, Petaluma\, 94952\, United States
CATEGORIES:Contra Dances,English Country Dance
ORGANIZER;CN="Craig%20Meltzner":MAILTO:craig@nbcds.org
GEO:38.231247;-122.6393062
X-APPLE-STRUCTURED-LOCATION;VALUE=URI;X-ADDRESS=St. John’s Episcopal Church – Petaluma 530 C Street Petaluma 94952 United States;X-APPLE-RADIUS=500;X-TITLE=530 C Street:geo:-122.6393062,38.231247
END:VEVENT
END:VCALENDAR