BEGIN:VCALENDAR
VERSION:2.0
PRODID:-//North Bay Country Dance Society - ECPv5.0.3.1//NONSGML v1.0//EN
CALSCALE:GREGORIAN
METHOD:PUBLISH
X-WR-CALNAME:North Bay Country Dance Society
X-ORIGINAL-URL:https://nbcds.org
X-WR-CALDESC:Events for North Bay Country Dance Society
BEGIN:VTIMEZONE
TZID:America/Los_Angeles
BEGIN:DAYLIGHT
TZOFFSETFROM:-0800
TZOFFSETTO:-0700
TZNAME:PDT
DTSTART:20250309T100000
END:DAYLIGHT
BEGIN:STANDARD
TZOFFSETFROM:-0700
TZOFFSETTO:-0800
TZNAME:PST
DTSTART:20251102T090000
END:STANDARD
END:VTIMEZONE
BEGIN:VEVENT
DTSTART;TZID=America/Los_Angeles:20250914T160000
DTEND;TZID=America/Los_Angeles:20250914T190000
DTSTAMP:20260419T130328
CREATED:20250820T213034Z
LAST-MODIFIED:20250830T152050Z
UID:10765-1757865600-1757876400@nbcds.org
SUMMARY:San Rafael Contra
DESCRIPTION:Heads up:  We’re dancing on SUNDAY\, September 14 from 4pm to 7pm. Dane Wallinga calling with gender-neutral terms to the music of Green Gates.  Jon Berger making a special appearance with Roxanne Oliva and Todd Silverstein. Ken Olcott on sound.  See you at the top of the hill: Unitarian Universalist Congregation of Marin at 240 Channing Way in San Rafael. Just 10 minutes north of the Richmond-San Rafael bridge off Hwy 101. $13 members\, $15 not-yet-members\, $8 limited income. Brand new dancers get in free — come at 3:30 for a beginners’ orientation. \n \n
URL:https://nbcds.org/event/san-rafael-contra-26/
LOCATION:Unitarian Universalist Congregation of Marin\, 240 Channing Way\, San Rafael\, CA 94903
CATEGORIES:Contra Dances
GEO:38.0077558;-122.5371218
X-APPLE-STRUCTURED-LOCATION;VALUE=URI;X-ADDRESS=Unitarian Universalist Congregation of Marin 240 Channing Way San Rafael CA 94903;X-APPLE-RADIUS=500;X-TITLE=240 Channing Way\, San Rafael\, CA 94903:geo:-122.5371218,38.0077558
END:VEVENT
END:VCALENDAR