BEGIN:VCALENDAR
VERSION:2.0
PRODID:-//North Bay Country Dance Society - ECPv5.0.3.1//NONSGML v1.0//EN
CALSCALE:GREGORIAN
METHOD:PUBLISH
X-WR-CALNAME:North Bay Country Dance Society
X-ORIGINAL-URL:https://nbcds.org
X-WR-CALDESC:Events for North Bay Country Dance Society
BEGIN:VTIMEZONE
TZID:America/Los_Angeles
BEGIN:DAYLIGHT
TZOFFSETFROM:-0800
TZOFFSETTO:-0700
TZNAME:PDT
DTSTART:20250309T100000
END:DAYLIGHT
BEGIN:STANDARD
TZOFFSETFROM:-0700
TZOFFSETTO:-0800
TZNAME:PST
DTSTART:20251102T090000
END:STANDARD
END:VTIMEZONE
BEGIN:VEVENT
DTSTART;TZID=America/Los_Angeles:20250125T140000
DTEND;TZID=America/Los_Angeles:20250125T160000
DTSTAMP:20260421T171719
CREATED:20241120T024659Z
LAST-MODIFIED:20250122T043949Z
UID:10016-1737813600-1737820800@nbcds.org
SUMMARY:San Rafael Family Dance
DESCRIPTION:Join us at UUCM in San Rafael on Saturday\, January 25 2pm to 4pm for a fun-filled\, active afternoon event for ALL AGES. Celia Ramsay will call easy and welcoming community dances with lively music by Anne Goess\, Craig Johnson\, and Erik Hoffman. Sound managed by Marty Brenneis. Great for the whole family! Singing\, hambone\, healthy snacks\, performances & an instrument petting zoo. \n
URL:https://nbcds.org/event/family-dance-4/
LOCATION:Unitarian Universalist Congregation of Marin\, 240 Channing Way\, San Rafael\, CA 94903
CATEGORIES:Contra Dances,Family Dance
ATTACH;FMTTYPE=image/png:https://nbcds.org/wp-content/uploads/2024/11/Family-Dance-January-2025.png
GEO:38.0077558;-122.5371218
X-APPLE-STRUCTURED-LOCATION;VALUE=URI;X-ADDRESS=Unitarian Universalist Congregation of Marin 240 Channing Way San Rafael CA 94903;X-APPLE-RADIUS=500;X-TITLE=240 Channing Way\, San Rafael\, CA 94903:geo:-122.5371218,38.0077558
END:VEVENT
END:VCALENDAR