BEGIN:VCALENDAR
VERSION:2.0
PRODID:-//North Bay Country Dance Society - ECPv5.0.3.1//NONSGML v1.0//EN
CALSCALE:GREGORIAN
METHOD:PUBLISH
X-WR-CALNAME:North Bay Country Dance Society
X-ORIGINAL-URL:https://nbcds.org
X-WR-CALDESC:Events for North Bay Country Dance Society
BEGIN:VTIMEZONE
TZID:America/Los_Angeles
BEGIN:DAYLIGHT
TZOFFSETFROM:-0800
TZOFFSETTO:-0700
TZNAME:PDT
DTSTART:20240310T100000
END:DAYLIGHT
BEGIN:STANDARD
TZOFFSETFROM:-0700
TZOFFSETTO:-0800
TZNAME:PST
DTSTART:20241103T090000
END:STANDARD
END:VTIMEZONE
BEGIN:VEVENT
DTSTART;TZID=America/Los_Angeles:20241229T140000
DTEND;TZID=America/Los_Angeles:20241229T163000
DTSTAMP:20260421T171657
CREATED:20220327T232031Z
LAST-MODIFIED:20240911T215442Z
UID:7841-1735480800-1735489800@nbcds.org
SUMMARY:Sebastopol Advanced English Country Dance
DESCRIPTION:Special Advanced English Country Dance\nNote: this dance will be held at St. John’s Episcopal Church in Petaluma\, 530 C Street.\nCaller: Alan Winston\nBand: The Rhythm Raptors: Jeff Spero (piano)\, Rodney Miller (violin)\, TJ Crowe (mandolin) \nOur 5th Sunday series is for experienced dancers\, so instruction will be streamlined and the dances will be more complex than at our 1st and 3rd Sunday dances.  We expect dancers attending these sessions to be completely comfortable with heys for 3 and 4\, dolphin heys\, figure 8s\, and triple minor progression.  They should also be able to maintain their sense of orientation within the set.  This is not the time to bring your friends who are new to English country dancing\, though we’d love to see them at the 1st and 3rd Sundays. \nPlease note: Our 3rd and 5th Sunday dances are now mask-optional.  For our 1st Sunday dances\, we still require that you wear an appropriate mask.  N95\, KN95\, KF94 and technical cloth masks\, such as Enro Tech Mask\, Happy Mask Pro\, Proper Cloth Mask\, Graf Lantz Zenbu Mask\, and Kitsbow Face Mask\, are acceptable. Your old cloth masks will need to be retired for our dance\, sorry.  During the break we ask dancers to keep their masks on while collecting snacks in the kitchen and waiting to unmask until outdoors. \n— There is a limit of 48 attendees\, and preregistration is encouraged (though not required). To preregister\, please email Tom at tspittler@gmail.com. \n— If you are not feeling well the day of the dance please stay home to protect yourself and others. \n— Please avoid wearing any scented products. \n— Please mention the dance to friends! \nTom Spittler and Kathy Woeltjen\, dance managers\nKalia Kliban\, series programmer \n
URL:https://nbcds.org/event/sebastopol-advanced-english-country-dance-2-2022-07-31-2023-10-29-2024-06-30-2024-09-29-2024-12-29/
LOCATION:St. John’s Episcopal Church\, Petaluma\, 530 C Street\, Petaluma\, CA\, 94952\, United States
CATEGORIES:English Country Dance
ORGANIZER;CN="Tom%20Spittler":MAILTO:tspittler@gmail.com
GEO:38.007923;-122.536809
X-APPLE-STRUCTURED-LOCATION;VALUE=URI;X-ADDRESS=St. John’s Episcopal Church Petaluma 530 C Street Petaluma CA 94952 United States;X-APPLE-RADIUS=500;X-TITLE=530 C Street:geo:-122.536809,38.007923
END:VEVENT
BEGIN:VEVENT
DTSTART;TZID=America/Los_Angeles:20241229T183000
DTEND;TZID=America/Los_Angeles:20241229T213000
DTSTAMP:20260421T171657
CREATED:20240908T044253Z
LAST-MODIFIED:20240908T044501Z
UID:9816-1735497000-1735507800@nbcds.org
SUMMARY:New Year Contra with Rhythm Raptors & Andy Shore
DESCRIPTION: \nCome celebrate the turning of the New Year with us…just a tad early. We’ll dance in Petaluma at Cram Hall\, St John’s Episcopal from 6:30-9:30 to driving tunes by the Rhythm Raptors (Rodney Miller\, Jeff Spero\, & TJ Crow.  Caller Andy Shore will call larks & robins.  See you there! \n
URL:https://nbcds.org/event/new-year-contra-with-rhythm-raptors-andy-shore/
LOCATION:St. John’s Episcopal Church\, Petaluma\, 530 C Street\, Petaluma\, CA\, 94952\, United States
CATEGORIES:Contra Dances
ORGANIZER;CN="Craig%20Meltzner":MAILTO:craig@nbcds.org
GEO:38.007923;-122.536809
X-APPLE-STRUCTURED-LOCATION;VALUE=URI;X-ADDRESS=St. John’s Episcopal Church Petaluma 530 C Street Petaluma CA 94952 United States;X-APPLE-RADIUS=500;X-TITLE=530 C Street:geo:-122.536809,38.007923
END:VEVENT
END:VCALENDAR