BEGIN:VCALENDAR
VERSION:2.0
PRODID:-//North Bay Country Dance Society - ECPv5.0.3.1//NONSGML v1.0//EN
CALSCALE:GREGORIAN
METHOD:PUBLISH
X-WR-CALNAME:North Bay Country Dance Society
X-ORIGINAL-URL:https://nbcds.org
X-WR-CALDESC:Events for North Bay Country Dance Society
BEGIN:VTIMEZONE
TZID:America/Los_Angeles
BEGIN:DAYLIGHT
TZOFFSETFROM:-0800
TZOFFSETTO:-0700
TZNAME:PDT
DTSTART:20240310T100000
END:DAYLIGHT
BEGIN:STANDARD
TZOFFSETFROM:-0700
TZOFFSETTO:-0800
TZNAME:PST
DTSTART:20241103T090000
END:STANDARD
END:VTIMEZONE
BEGIN:VEVENT
DTSTART;TZID=America/Los_Angeles:20241214T190000
DTEND;TZID=America/Los_Angeles:20241214T220000
DTSTAMP:20260421T185344
CREATED:20240821T015032Z
LAST-MODIFIED:20241211T033256Z
UID:9632-1734202800-1734213600@nbcds.org
SUMMARY:San Rafael Contra
DESCRIPTION:\nContra Dance in San Rafael on Saturday\, December 14th 7pm – 10pm \nJoin us for the 2nd Saturday contra in San Rafael. Lively music from Green Gates (Jon Berger\, Roxanne Olive\, & Todd Silverstein) with Kalia Kliban calling larks & robins. Sound by Marty Brenneis. \nWe’ll be at the usual location: UUCM (Unitarian Universalist Congregration of Marin) at 240 Channing Way in San Rafael. At the top of a steep hill; plenty of parking. UUCM is doing some major renovations in other parts of the building\, so keep an eye out for construction and our alternate entrance to the hall. \nAdmission: $13 NBCDS/BACDS/CDSS members; $15 not-yet-members; $8 pay as you can/limited income. First time dancers get in free — bring your friends & family at 6:30pm for a newcomers’ orientation. \nMasks are optional at our contra dance series. If you are not feeling well on the day of the dance\, please take care of yourself & the community — stay home and join us another time. Thanks for your support in keeping the transmission of illnesses to a minimum\, especially during this winter holiday season. \n* NBCDS dances are fragrance-free events.\n* You are invited to bring snacks to share at the break.\n* Bring a water bottle & stay hydrated! \n
URL:https://nbcds.org/event/san-rafael-contra-19/
LOCATION:Unitarian Universalist Congregation of Marin\, 240 Channing Way\, San Rafael\, CA 94903
CATEGORIES:Contra Dances
GEO:38.0077558;-122.5371218
X-APPLE-STRUCTURED-LOCATION;VALUE=URI;X-ADDRESS=Unitarian Universalist Congregation of Marin 240 Channing Way San Rafael CA 94903;X-APPLE-RADIUS=500;X-TITLE=240 Channing Way\, San Rafael\, CA 94903:geo:-122.5371218,38.0077558
END:VEVENT
END:VCALENDAR