BEGIN:VCALENDAR
VERSION:2.0
PRODID:-//North Bay Country Dance Society - ECPv5.0.3.1//NONSGML v1.0//EN
CALSCALE:GREGORIAN
METHOD:PUBLISH
X-WR-CALNAME:North Bay Country Dance Society
X-ORIGINAL-URL:https://nbcds.org
X-WR-CALDESC:Events for North Bay Country Dance Society
BEGIN:VTIMEZONE
TZID:America/Los_Angeles
BEGIN:DAYLIGHT
TZOFFSETFROM:-0800
TZOFFSETTO:-0700
TZNAME:PDT
DTSTART:20240310T100000
END:DAYLIGHT
BEGIN:STANDARD
TZOFFSETFROM:-0700
TZOFFSETTO:-0800
TZNAME:PST
DTSTART:20241103T090000
END:STANDARD
END:VTIMEZONE
BEGIN:VEVENT
DTSTART;TZID=America/Los_Angeles:20241012T190000
DTEND;TZID=America/Los_Angeles:20241012T220000
DTSTAMP:20260421T220104
CREATED:20240412T111046Z
LAST-MODIFIED:20240917T134429Z
UID:9447-1728759600-1728770400@nbcds.org
SUMMARY:San Rafael Contra
DESCRIPTION:Contra with music by Rebecca King and Lee Anne Welch. Alan Winston calling larks and robins. \n
URL:https://nbcds.org/event/san-rafael-contra-17/
LOCATION:Unitarian Universalist Congregation of Marin\, 240 Channing Way\, San Rafael\, CA 94903
CATEGORIES:Contra Dances
GEO:38.0077558;-122.5371218
X-APPLE-STRUCTURED-LOCATION;VALUE=URI;X-ADDRESS=Unitarian Universalist Congregation of Marin 240 Channing Way San Rafael CA 94903;X-APPLE-RADIUS=500;X-TITLE=240 Channing Way\, San Rafael\, CA 94903:geo:-122.5371218,38.0077558
END:VEVENT
END:VCALENDAR