BEGIN:VCALENDAR
VERSION:2.0
PRODID:-//North Bay Country Dance Society - ECPv5.0.3.1//NONSGML v1.0//EN
CALSCALE:GREGORIAN
METHOD:PUBLISH
X-WR-CALNAME:North Bay Country Dance Society
X-ORIGINAL-URL:https://nbcds.org
X-WR-CALDESC:Events for North Bay Country Dance Society
BEGIN:VTIMEZONE
TZID:America/Los_Angeles
BEGIN:DAYLIGHT
TZOFFSETFROM:-0800
TZOFFSETTO:-0700
TZNAME:PDT
DTSTART:20240310T100000
END:DAYLIGHT
BEGIN:STANDARD
TZOFFSETFROM:-0700
TZOFFSETTO:-0800
TZNAME:PST
DTSTART:20241103T090000
END:STANDARD
END:VTIMEZONE
BEGIN:VEVENT
DTSTART;TZID=America/Los_Angeles:20240929T140000
DTEND;TZID=America/Los_Angeles:20240929T163000
DTSTAMP:20260421T220906
CREATED:20220327T232031Z
LAST-MODIFIED:20240922T154445Z
UID:7341-1727618400-1727627400@nbcds.org
SUMMARY:Sebastopol Advanced English Country Dance
DESCRIPTION:Special Advanced English Country Dance\nSeptember 29 5th Sunday Advanced Dance at Wischemann Hall\, 465 Morris St in Sebastopol\nCaller: Gaye Fifer (PA)\nBand: Rebecca King (piano)\, Rodney Miller (violin) \nOur 5th Sunday series is for experienced dancers\, so instruction will be streamlined and the dances will be more complex than at our 1st and 3rd Sunday dances.  We expect dancers attending these sessions to be completely comfortable with heys for 3 and 4\, dolphin heys\, figure 8s\, and triple minor progression.  They should also be able to maintain their sense of orientation within the set.  This is not the time to bring your friends who are new to English country dancing\, though we’d love to see them at the 1st and 3rd Sundays. \nPlease note: Our 3rd and 5th Sunday dances are now mask-optional.  For our 1st Sunday dances\, we still require that you wear an appropriate mask.  N95\, KN95\, KF94 and technical cloth masks\, such as Enro Tech Mask\, Happy Mask Pro\, Proper Cloth Mask\, Graf Lantz Zenbu Mask\, and Kitsbow Face Mask\, are acceptable. Your old cloth masks will need to be retired for our dance\, sorry.  During the break we ask dancers to keep their masks on while collecting snacks in the kitchen and waiting to unmask until outdoors. \n— There is a limit of 48 attendees\, and preregistration is encouraged (though not required). To preregister\, please email Tom at tspittler@gmail.com. \n— If you are not feeling well the day of the dance please stay home to protect yourself and others. \n— Please avoid wearing any scented products. \n— Please mention the dance to friends! \nTom Spittler and Kathy Woeltjen\, dance managers\nKalia Kliban\, series programmer \n
URL:https://nbcds.org/event/sebastopol-advanced-english-country-dance-2-2022-07-31-2023-10-29-2024-06-30-2024-09-29/
LOCATION:Wischemann Hall\, 465 Morris St.\, Sebastopol\, CA\, United States
CATEGORIES:English Country Dance
ORGANIZER;CN="Tom%20Spittler":MAILTO:tspittler@gmail.com
GEO:38.4086229;-122.8208861
X-APPLE-STRUCTURED-LOCATION;VALUE=URI;X-ADDRESS=Wischemann Hall 465 Morris St. Sebastopol CA United States;X-APPLE-RADIUS=500;X-TITLE=465 Morris St.:geo:-122.8208861,38.4086229
END:VEVENT
BEGIN:VEVENT
DTSTART;TZID=America/Los_Angeles:20240929T183000
DTEND;TZID=America/Los_Angeles:20240929T213000
DTSTAMP:20260421T220906
CREATED:20240827T022437Z
LAST-MODIFIED:20240908T032854Z
UID:9648-1727634600-1727645400@nbcds.org
SUMMARY:Special Petaluma contra dance
DESCRIPTION: \nJoin us for a special fifth Sunday Petaluma contra dance featuring caller Gaye Fifer from Pittsburgh\, PA\, with exceptional music from Rodney Miller (fiddle) and Rebecca King (piano)\nSound: Vince Lucchesi\nManager: Craig Meltzner/Tom Schwartz \n\n\nAdmission: $13 NBCDS/BACDS members; $15 non-members; or $8 limited income\nBeginners lesson at 6:10 PM –First time dancers with NBCDS dance free! \nPlease refrain from wearing fragrances or scented products.\nPlease bring your own water bottles.\nSnacks will be available and feel free to bring some. \n\n\n
URL:https://nbcds.org/event/special-petaluma-contra-dance-2/
LOCATION:St. John’s Episcopal Church – Petaluma\, 530 C Street\, Petaluma\, 94952\, United States
CATEGORIES:Contra Dances
ORGANIZER;CN="Craig%20Meltzner":MAILTO:craig@nbcds.org
GEO:38.231247;-122.6393062
X-APPLE-STRUCTURED-LOCATION;VALUE=URI;X-ADDRESS=St. John’s Episcopal Church – Petaluma 530 C Street Petaluma 94952 United States;X-APPLE-RADIUS=500;X-TITLE=530 C Street:geo:-122.6393062,38.231247
END:VEVENT
END:VCALENDAR