BEGIN:VCALENDAR
VERSION:2.0
PRODID:-//North Bay Country Dance Society - ECPv5.0.3.1//NONSGML v1.0//EN
CALSCALE:GREGORIAN
METHOD:PUBLISH
X-WR-CALNAME:North Bay Country Dance Society
X-ORIGINAL-URL:https://nbcds.org
X-WR-CALDESC:Events for North Bay Country Dance Society
BEGIN:VTIMEZONE
TZID:America/Los_Angeles
BEGIN:DAYLIGHT
TZOFFSETFROM:-0800
TZOFFSETTO:-0700
TZNAME:PDT
DTSTART:20240310T100000
END:DAYLIGHT
BEGIN:STANDARD
TZOFFSETFROM:-0700
TZOFFSETTO:-0800
TZNAME:PST
DTSTART:20241103T090000
END:STANDARD
END:VTIMEZONE
BEGIN:VEVENT
DTSTART;VALUE=DATE:20240405
DTEND;VALUE=DATE:20240408
DTSTAMP:20260422T071932
CREATED:20231109T133940Z
LAST-MODIFIED:20240323T000643Z
UID:8750-1712275200-1712534399@nbcds.org
SUMMARY:Epicenter 2024
DESCRIPTION:The EPIC urban dance weekend centered in Mill Valley\, California at the beautiful Strawberry Recreation Center lands this year on the first weekend in April. Join us Friday\, April 5 @ 7pm thru Sunday\, April 7 @ 5:15pm for EPIC dancing to GENTICORUM and FREE RAISINS with gender-neutral calling by SETH TEPFER and ALEXANDRA DEIS-LAUBY.  Sound by VICTOR GARZA.  Quaking floor courtesy of YOU amidst a crowd of exuberant friends. \nREGISTRATION is open: https://nbcds.org/epicenter-2024/ \nCan’t attend for the full weekend? Join us for a la carte single days ($65) and/or evenings ($40) . \n \n
URL:https://nbcds.org/event/epicenter-2024/
LOCATION:Strawberry Recreation Center\, 118 E. Strawberry Drive\, Mill Valley\, 94941\, United States
CATEGORIES:Contra Dances
GEO:37.897975;-122.5059609
X-APPLE-STRUCTURED-LOCATION;VALUE=URI;X-ADDRESS=Strawberry Recreation Center 118 E. Strawberry Drive Mill Valley 94941 United States;X-APPLE-RADIUS=500;X-TITLE=118 E. Strawberry Drive:geo:-122.5059609,37.897975
END:VEVENT
BEGIN:VEVENT
DTSTART;TZID=America/Los_Angeles:20240407T140000
DTEND;TZID=America/Los_Angeles:20240407T163000
DTSTAMP:20260422T071932
CREATED:20220327T231021Z
LAST-MODIFIED:20240318T172026Z
UID:6536-1712498400-1712507400@nbcds.org
SUMMARY:Sebastopol English Country Dance
DESCRIPTION:Caller: Gary Thomas\nBand: Bill Jensen (piano)\, Maggie Moore (violin)\, Maurette Foster (flute) \nNew dancers are welcome and should come early for new dancer instruction at 1:45 (no partner necessary). Wear smooth-soled\, low-heeled shoes. Admission is $13 for members and affiliates\, $15 for non-members\, $5 for dancers 30 or younger.  If you’re comfortably able to pay the $15\, those few extra dollars will help support our series as we all recover from the pandemic.  This is a fragrance-free event\, so no perfume or scented products please. \nBecause of ongoing COVID-19: \n\n\n— There is a limit of 48 attendees\, and preregistration is encouraged (though not required). To preregister\, please email Tom at tspittler@gmail.com. \n— Unless otherwise specified\, the NBCDS Sebastopol English dance will also require the wearing of appropriate masks.  N95\, KN95\, KF94 and technical cloth masks\, such as Enro Tech Mask\, Happy Mask Pro\, Proper Cloth Mask\, Graf Lantz Zenbu Mask\, and Kitsbow Face Mask\, are acceptable. Your old cloth masks will need to be retired for our dance\, sorry. \n— If you are not feeling well the day of the dance please stay home to protect yourself and others. \n— During the break we ask dancers keep their masks on while collecting snacks in the kitchen and waiting to unmask until outdoors. \n— Please avoid wearing any scented products. \n— Please mention the dance to friends! \nTom Spittler and Kathy Woeltjen\, dance managers\nKalia Kliban\, series programmer \n\n\n
URL:https://nbcds.org/event/sebastopol-english-country-dance-54-2023-01-01-2023-01-15-2023-03-19-2023-07-02-2024-04-07/
LOCATION:Wischemann Hall\, 465 Morris St.\, Sebastopol\, CA\, United States
CATEGORIES:English Country Dance
ORGANIZER;CN="Tom%20Spittler":MAILTO:tspittler@gmail.com
GEO:38.4086229;-122.8208861
X-APPLE-STRUCTURED-LOCATION;VALUE=URI;X-ADDRESS=Wischemann Hall 465 Morris St. Sebastopol CA United States;X-APPLE-RADIUS=500;X-TITLE=465 Morris St.:geo:-122.8208861,38.4086229
END:VEVENT
BEGIN:VEVENT
DTSTART;TZID=America/Los_Angeles:20240407T183000
DTEND;TZID=America/Los_Angeles:20240407T213000
DTSTAMP:20260422T071932
CREATED:20231109T134624Z
LAST-MODIFIED:20231109T134726Z
UID:8753-1712514600-1712525400@nbcds.org
SUMMARY:No Petaluma Contra!
DESCRIPTION:We will not hold a Petaluma dance this Sunday\, but you can satiate your need for contra at Epicenter this weekend in Mill Valley by dancing to Genticorum and the Free Raisins. Registration opens December 1st. If space is still available in late March\, we will offer single day / single session admission: Stay tuned! \n
URL:https://nbcds.org/event/no-petaluma-contra-2/
CATEGORIES:Contra Dances
ORGANIZER;CN="Craig%20Meltzner":MAILTO:craig@nbcds.org
END:VEVENT
END:VCALENDAR