BEGIN:VCALENDAR
VERSION:2.0
PRODID:-//North Bay Country Dance Society - ECPv5.0.3.1//NONSGML v1.0//EN
CALSCALE:GREGORIAN
METHOD:PUBLISH
X-WR-CALNAME:North Bay Country Dance Society
X-ORIGINAL-URL:https://nbcds.org
X-WR-CALDESC:Events for North Bay Country Dance Society
BEGIN:VTIMEZONE
TZID:America/Los_Angeles
BEGIN:DAYLIGHT
TZOFFSETFROM:-0800
TZOFFSETTO:-0700
TZNAME:PDT
DTSTART:20230312T100000
END:DAYLIGHT
BEGIN:STANDARD
TZOFFSETFROM:-0700
TZOFFSETTO:-0800
TZNAME:PST
DTSTART:20231105T090000
END:STANDARD
END:VTIMEZONE
BEGIN:VEVENT
DTSTART;TZID=America/Los_Angeles:20231224T140000
DTEND;TZID=America/Los_Angeles:20231224T163000
DTSTAMP:20260422T125234
CREATED:20220905T190444Z
LAST-MODIFIED:20231122T205312Z
UID:7204-1703426400-1703435400@nbcds.org
SUMMARY:Napa ECD - Cancelled
DESCRIPTION:Napa Senior Center\n1500 Jefferson\, Napa \n
URL:https://nbcds.org/event/napa-ecd-music-by-rebecca-king-and-friends-called-by-bonnie-richardson-2-2022-09-25-2023-12-24/
END:VEVENT
END:VCALENDAR