BEGIN:VCALENDAR
VERSION:2.0
PRODID:-//North Bay Country Dance Society - ECPv5.0.3.1//NONSGML v1.0//EN
CALSCALE:GREGORIAN
METHOD:PUBLISH
X-WR-CALNAME:North Bay Country Dance Society
X-ORIGINAL-URL:https://nbcds.org
X-WR-CALDESC:Events for North Bay Country Dance Society
BEGIN:VTIMEZONE
TZID:America/Los_Angeles
BEGIN:DAYLIGHT
TZOFFSETFROM:-0800
TZOFFSETTO:-0700
TZNAME:PDT
DTSTART:20230312T100000
END:DAYLIGHT
BEGIN:STANDARD
TZOFFSETFROM:-0700
TZOFFSETTO:-0800
TZNAME:PST
DTSTART:20231105T090000
END:STANDARD
END:VTIMEZONE
BEGIN:VEVENT
DTSTART;TZID=America/Los_Angeles:20231210T140000
DTEND;TZID=America/Los_Angeles:20231210T160000
DTSTAMP:20260422T123546
CREATED:20231122T204853Z
LAST-MODIFIED:20231122T205023Z
UID:8882-1702216800-1702224000@nbcds.org
SUMMARY:Napa ECD Party!
DESCRIPTION:Napa Holiday Dance Party\, Sunday\, Dec. 10th\, 2-4pm at the Napa Senior Center.  Wear something festive and bring a snack to share (or not – just come!).  This will be our last dance until the new year. \n
URL:https://nbcds.org/event/napa-ecd-party/
LOCATION:Napa Senior Activity Center\, 1500 Jefferson St.\, Napa\, CA\, 94559\, United States
CATEGORIES:English Country Dance
GEO:38.301518;-122.292813
X-APPLE-STRUCTURED-LOCATION;VALUE=URI;X-ADDRESS=Napa Senior Activity Center 1500 Jefferson St. Napa CA 94559 United States;X-APPLE-RADIUS=500;X-TITLE=1500 Jefferson St.:geo:-122.292813,38.301518
END:VEVENT
END:VCALENDAR