BEGIN:VCALENDAR
VERSION:2.0
PRODID:-//North Bay Country Dance Society - ECPv5.0.3.1//NONSGML v1.0//EN
CALSCALE:GREGORIAN
METHOD:PUBLISH
X-WR-CALNAME:North Bay Country Dance Society
X-ORIGINAL-URL:https://nbcds.org
X-WR-CALDESC:Events for North Bay Country Dance Society
BEGIN:VTIMEZONE
TZID:America/Los_Angeles
BEGIN:DAYLIGHT
TZOFFSETFROM:-0800
TZOFFSETTO:-0700
TZNAME:PDT
DTSTART:20230312T100000
END:DAYLIGHT
BEGIN:STANDARD
TZOFFSETFROM:-0700
TZOFFSETTO:-0800
TZNAME:PST
DTSTART:20231105T090000
END:STANDARD
END:VTIMEZONE
BEGIN:VEVENT
DTSTART;TZID=America/Los_Angeles:20230806T140000
DTEND;TZID=America/Los_Angeles:20230806T163000
DTSTAMP:20260422T184732
CREATED:20220327T231021Z
LAST-MODIFIED:20230615T013059Z
UID:6284-1691330400-1691339400@nbcds.org
SUMMARY:Sebastopol English Country Dance
DESCRIPTION:Caller: Alan Winston\nBand: The Jews of Barley — Shira Kammen (piano/violin)\, Jon Berger (/melodeon/violin)\, Michelle Masek (viola/violin) \nNew dancers are welcome and should come early for new dancer instruction at 1:45 (no partner necessary). Wear smooth-soled\, low-heeled shoes. Admission is $13 for members and affiliates\, $15 for non-members\, $5 for dancers 30 or younger.  If you’re comfortably able to pay the $15\, those few extra dollars will help support our series as we all recover from the pandemic.  This is a fragrance-free event\, so no perfume or scented products please. \nBecause of ongoing COVID-19: \n\n\n— There is a limit of 48 attendees\, and preregistration is encouraged (though not required). To preregister\, please email Tom at tspittler@gmail.com. \n— Unless otherwise specified\, the NBCDS Sebastopol English dance will also require the wearing of appropriate masks.  N95\, KN95\, KF94 and technical cloth masks\, such as Enro Tech Mask\, Happy Mask Pro\, Proper Cloth Mask\, Graf Lantz Zenbu Mask\, and Kitsbow Face Mask\, are acceptable. Your old cloth masks will need to be retired for our dance\, sorry. \n— If you are not feeling well the day of the dance please stay home to protect yourself and others. \n— During the break we ask dancers keep their masks on while collecting snacks in the kitchen and waiting to unmask until outdoors. \n— Please avoid wearing any scented products. \n— Please mention the dance to friends! \nTom Spittler and Kathy Woeltjen\, dance managers\nKalia Kliban\, series programmer \n\n\n
URL:https://nbcds.org/event/sebastopol-english-country-dance-54-2023-01-01-2023-01-15-2023-03-19-2023-07-02-2023-08-06/
LOCATION:Wischemann Hall\, 465 Morris St.\, Sebastopol\, CA\, United States
CATEGORIES:English Country Dance
ORGANIZER;CN="Tom%20Spittler":MAILTO:tspittler@gmail.com
GEO:38.4086229;-122.8208861
X-APPLE-STRUCTURED-LOCATION;VALUE=URI;X-ADDRESS=Wischemann Hall 465 Morris St. Sebastopol CA United States;X-APPLE-RADIUS=500;X-TITLE=465 Morris St.:geo:-122.8208861,38.4086229
END:VEVENT
BEGIN:VEVENT
DTSTART;TZID=America/Los_Angeles:20230806T180000
DTEND;TZID=America/Los_Angeles:20230806T213000
DTSTAMP:20260422T184732
CREATED:20230610T171537Z
LAST-MODIFIED:20230610T171900Z
UID:8458-1691344800-1691357400@nbcds.org
SUMMARY:Petaluma Contra
DESCRIPTION:Band: Green Gates (Jon Berger\, Roxanne Oliva\, Todd Silverstein)\nCaller: Mike Fynan\, calling Larks and Robins\nSound: TBD \n\nCram Hall is at St. John’s Episcopal and is located at 530 C Street between Fifth and Sixth Streets in Petaluma. Parking lot adjacent to the Hall at the corner of C and Sixth.\nArrive by 6pm for the newcomers’ orientation. Dance runs 6:30- 9:30pm\nAdmission: $13 NBCDS/BACDS members; $15 not-yet-members; $8 youth / limited income\nYou are invited to bring snacks to share and a reusable water bottle.\nNBCDS dances are fragrance-free\nCurrently\, NBCDS contras are mask-optional\, and dance organizers *may* opt to recommend or require masks. The NBCDS Safety Committee makes weekly assessments of data about viral loads in wastewater to inform recommendations about masking.  If you are feeling ill\, please dance with us another time — thanks for helping to keep transmission of COVID-19 and other illness to a minimum.\n\n  \n
URL:https://nbcds.org/event/petaluma-contra-8/
LOCATION:St. John’s Episcopal Church – Petaluma\, 530 C Street\, Petaluma\, 94952\, United States
CATEGORIES:Contra Dances
ORGANIZER;CN="Craig%20Meltzner":MAILTO:craig@nbcds.org
GEO:38.231247;-122.6393062
X-APPLE-STRUCTURED-LOCATION;VALUE=URI;X-ADDRESS=St. John’s Episcopal Church – Petaluma 530 C Street Petaluma 94952 United States;X-APPLE-RADIUS=500;X-TITLE=530 C Street:geo:-122.6393062,38.231247
END:VEVENT
END:VCALENDAR