BEGIN:VCALENDAR
VERSION:2.0
PRODID:-//North Bay Country Dance Society - ECPv5.0.3.1//NONSGML v1.0//EN
CALSCALE:GREGORIAN
METHOD:PUBLISH
X-WR-CALNAME:North Bay Country Dance Society
X-ORIGINAL-URL:https://nbcds.org
X-WR-CALDESC:Events for North Bay Country Dance Society
BEGIN:VTIMEZONE
TZID:America/Los_Angeles
BEGIN:DAYLIGHT
TZOFFSETFROM:-0800
TZOFFSETTO:-0700
TZNAME:PDT
DTSTART:20220313T100000
END:DAYLIGHT
BEGIN:STANDARD
TZOFFSETFROM:-0700
TZOFFSETTO:-0800
TZNAME:PST
DTSTART:20221106T090000
END:STANDARD
END:VTIMEZONE
BEGIN:VEVENT
DTSTART;TZID=America/Los_Angeles:20221224T190000
DTEND;TZID=America/Los_Angeles:20221224T220000
DTSTAMP:20260423T064207
CREATED:20221211T174437Z
LAST-MODIFIED:20221211T174550Z
UID:7741-1671908400-1671919200@nbcds.org
SUMMARY:CANCELED: San Rafael Contra
DESCRIPTION:No contra in San Rafael this month due to the holiday weekend.  In 2023\, we’ll be moving back to the pre-pandemic timing of 2nd Saturdays…but not in January–come dance at Contra Carnivale weekend in San Luis Obispo (!) We’ll start the 2023 San Rafael Contra series on Saturday\, February 11.  See you then! \n
URL:https://nbcds.org/event/no-san-rafael-contra/
CATEGORIES:Contra Dances
END:VEVENT
END:VCALENDAR