BEGIN:VCALENDAR
VERSION:2.0
PRODID:-//North Bay Country Dance Society - ECPv5.0.3.1//NONSGML v1.0//EN
CALSCALE:GREGORIAN
METHOD:PUBLISH
X-WR-CALNAME:North Bay Country Dance Society
X-ORIGINAL-URL:https://nbcds.org
X-WR-CALDESC:Events for North Bay Country Dance Society
BEGIN:VTIMEZONE
TZID:America/Los_Angeles
BEGIN:DAYLIGHT
TZOFFSETFROM:-0800
TZOFFSETTO:-0700
TZNAME:PDT
DTSTART:20220313T100000
END:DAYLIGHT
BEGIN:STANDARD
TZOFFSETFROM:-0700
TZOFFSETTO:-0800
TZNAME:PST
DTSTART:20221106T090000
END:STANDARD
END:VTIMEZONE
BEGIN:VEVENT
DTSTART;TZID=America/Los_Angeles:20221029T190000
DTEND;TZID=America/Los_Angeles:20221029T220000
DTSTAMP:20260423T093034
CREATED:20220803T184337Z
LAST-MODIFIED:20221017T021737Z
UID:7114-1667070000-1667080800@nbcds.org
SUMMARY:San Rafael Contra with Magic Reelism
DESCRIPTION:Celebrate Halloween at the San Rafael Contra!  Dress up if you wish for spooky tunes by Magic Reelism: Chetani Cheryl McKinney (keys)\, David Wright (fiddle and mandolin)\, Sue Jones (concertina)\, & Del Eckels (percussion). Calling by Kelsey Hartman using larks and robins role terms. Sound by Marty Brenneis. \nWe dance at the Unitarian Universalist-Marin just 15 miles north of the Golden Gate and 7 miles from the Richmond-San Rafael Bridge: 240 Channing Way\, San Rafael\, CA 94903. Beginners welcome…come to the orientation at 6:30pm. Masks and vaccinations required–see our home page for detailed Covid-19 precautions based on the CDC Community Level guidelines which are updated every Thursday.  See you there! \n
URL:https://nbcds.org/event/san-rafael-contra-with-magic-reelism/
LOCATION:Unitarian Universalist Congregation of Marin\, 240 Channing Way\, San Rafael\, CA 94903
CATEGORIES:Contra Dances
GEO:38.0077558;-122.5371218
X-APPLE-STRUCTURED-LOCATION;VALUE=URI;X-ADDRESS=Unitarian Universalist Congregation of Marin 240 Channing Way San Rafael CA 94903;X-APPLE-RADIUS=500;X-TITLE=240 Channing Way\, San Rafael\, CA 94903:geo:-122.5371218,38.0077558
END:VEVENT
END:VCALENDAR