BEGIN:VCALENDAR
VERSION:2.0
PRODID:-//North Bay Country Dance Society - ECPv5.0.3.1//NONSGML v1.0//EN
CALSCALE:GREGORIAN
METHOD:PUBLISH
X-WR-CALNAME:North Bay Country Dance Society
X-ORIGINAL-URL:https://nbcds.org
X-WR-CALDESC:Events for North Bay Country Dance Society
BEGIN:VTIMEZONE
TZID:America/Los_Angeles
BEGIN:DAYLIGHT
TZOFFSETFROM:-0800
TZOFFSETTO:-0700
TZNAME:PDT
DTSTART:20220313T100000
END:DAYLIGHT
BEGIN:STANDARD
TZOFFSETFROM:-0700
TZOFFSETTO:-0800
TZNAME:PST
DTSTART:20221106T090000
END:STANDARD
END:VTIMEZONE
BEGIN:VEVENT
DTSTART;TZID=America/Los_Angeles:20221023T140000
DTEND;TZID=America/Los_Angeles:20221023T163000
DTSTAMP:20260423T094033
CREATED:20220905T175712Z
LAST-MODIFIED:20220908T192847Z
UID:7184-1666533600-1666542600@nbcds.org
SUMMARY:Napa ECD Music by Jon Berger and Open Band.  Called by Alisa Dodson
DESCRIPTION:
URL:https://nbcds.org/event/napa-ecd-music-by-rebecca-king-and-friends-called-by-bonnie-richardson/
LOCATION:Napa Senior Activity Center\, 1500 Jefferson St.\, Napa\, CA\, 94559\, United States
CATEGORIES:English Country Dance
GEO:38.301518;-122.292813
X-APPLE-STRUCTURED-LOCATION;VALUE=URI;X-ADDRESS=Napa Senior Activity Center 1500 Jefferson St. Napa CA 94559 United States;X-APPLE-RADIUS=500;X-TITLE=1500 Jefferson St.:geo:-122.292813,38.301518
END:VEVENT
END:VCALENDAR