BEGIN:VCALENDAR
VERSION:2.0
PRODID:-//North Bay Country Dance Society - ECPv5.0.3.1//NONSGML v1.0//EN
CALSCALE:GREGORIAN
METHOD:PUBLISH
X-WR-CALNAME:North Bay Country Dance Society
X-ORIGINAL-URL:https://nbcds.org
X-WR-CALDESC:Events for North Bay Country Dance Society
BEGIN:VTIMEZONE
TZID:America/Los_Angeles
BEGIN:DAYLIGHT
TZOFFSETFROM:-0800
TZOFFSETTO:-0700
TZNAME:PDT
DTSTART:20220313T100000
END:DAYLIGHT
BEGIN:STANDARD
TZOFFSETFROM:-0700
TZOFFSETTO:-0800
TZNAME:PST
DTSTART:20221106T090000
END:STANDARD
END:VTIMEZONE
BEGIN:VEVENT
DTSTART;TZID=America/Los_Angeles:20220924T190000
DTEND;TZID=America/Los_Angeles:20220924T220000
DTSTAMP:20260423T110026
CREATED:20220803T183904Z
LAST-MODIFIED:20220919T222253Z
UID:7112-1664046000-1664056800@nbcds.org
SUMMARY:San Rafael Contra with Larry & Caroline
DESCRIPTION:Welcome back to the San Rafael Contra!  Join us for a lively evening with Larry Unger (guitar/etc) and Caroline McCaskey (fiddle and maybe a tune on the saw) and calling by Susan Petrick.  Susan has confirmed that she will call using larks and robins terms. We dance at the Unitarian Universalist-Marin just 15 miles north of the Golden Gate and 7 miles from the Richmond-San Rafael Bridge: 240 Channing Way\, San Rafael\, CA 94903. Beginners welcome…come to the orientation at 6:30pm. Check our home page for current Covid-19 precautions updated based on the CDC Community Level guidelines every Thursday.  See you there! \n
URL:https://nbcds.org/event/san-rafael-contra/
LOCATION:Unitarian Universalist Congregation of Marin\, 240 Channing Way\, San Rafael\, CA 94903
CATEGORIES:Contra Dances
GEO:38.0077558;-122.5371218
X-APPLE-STRUCTURED-LOCATION;VALUE=URI;X-ADDRESS=Unitarian Universalist Congregation of Marin 240 Channing Way San Rafael CA 94903;X-APPLE-RADIUS=500;X-TITLE=240 Channing Way\, San Rafael\, CA 94903:geo:-122.5371218,38.0077558
END:VEVENT
END:VCALENDAR