BEGIN:VCALENDAR
VERSION:2.0
PRODID:-//North Bay Country Dance Society - ECPv5.0.3.1//NONSGML v1.0//EN
CALSCALE:GREGORIAN
METHOD:PUBLISH
X-WR-CALNAME:North Bay Country Dance Society
X-ORIGINAL-URL:https://nbcds.org
X-WR-CALDESC:Events for North Bay Country Dance Society
BEGIN:VTIMEZONE
TZID:America/Los_Angeles
BEGIN:DAYLIGHT
TZOFFSETFROM:-0800
TZOFFSETTO:-0700
TZNAME:PDT
DTSTART:20220313T100000
END:DAYLIGHT
BEGIN:STANDARD
TZOFFSETFROM:-0700
TZOFFSETTO:-0800
TZNAME:PST
DTSTART:20221106T090000
END:STANDARD
END:VTIMEZONE
BEGIN:VEVENT
DTSTART;TZID=America/Los_Angeles:20220306T183000
DTEND;TZID=America/Los_Angeles:20220306T210000
DTSTAMP:20260423T194406
CREATED:20220224T041307Z
LAST-MODIFIED:20220301T052608Z
UID:6064-1646591400-1646600400@nbcds.org
SUMMARY:In-person Petaluma Contra - We're back!
DESCRIPTION:No Zoom link — we’re contra dancing in-person again at St. John’s Episcopal in Petaluma on March 6th! \nMusic by Rodney Miller (fiddle) and Morgan Cochneuer (guitar) with calling by Kelsey Hartman. Sound by Marty Brenneis. \nCram Hall is at St. John’s Episcopal and is located at 530 C Street between Fifth and Sixth Streets in Petaluma. Parking lot adjacent to the Hall at the corner of C and Sixth. \nThe dance will be from 6:30 – 9:00 p.m. Kelsey will be calling larks-and-robins. Dance with who’s coming at you! Beginner lesson at 6:15ish. \nCurrently we require dancers to be fully-vaccinated\, including booster\, and masked. Vaccination status will be checked at the door. Please bring your own water bottles. There will be no food served in the Hall. \nWe will monitor the status of local COVID case rates and public health directives and will be prepared to cancel in-person dances as needed. Please check the NBCDS website and/or contact the dance manager/organizer – craig@nbcds.org – shortly before the scheduled dance to confirm plans to hold the dance. \nAdmission: $13 NBCDS/BACDS members; $15 non-members; or $8 limited income \nManager: Craig Meltzner – craig@nbcds.org\nProgrammer: Linda Howard \n \n  \n
URL:https://nbcds.org/event/petaluma-contra-2/
LOCATION:St. John’s Episcopal Church – Petaluma\, 530 C Street\, Petaluma\, 94952\, United States
CATEGORIES:Contra Dances
GEO:38.231247;-122.6393062
X-APPLE-STRUCTURED-LOCATION;VALUE=URI;X-ADDRESS=St. John’s Episcopal Church – Petaluma 530 C Street Petaluma 94952 United States;X-APPLE-RADIUS=500;X-TITLE=530 C Street:geo:-122.6393062,38.231247
END:VEVENT
END:VCALENDAR