BEGIN:VCALENDAR
VERSION:2.0
PRODID:-//North Bay Country Dance Society - ECPv5.0.3.1//NONSGML v1.0//EN
CALSCALE:GREGORIAN
METHOD:PUBLISH
X-WR-CALNAME:North Bay Country Dance Society
X-ORIGINAL-URL:https://nbcds.org
X-WR-CALDESC:Events for North Bay Country Dance Society
BEGIN:VTIMEZONE
TZID:America/Los_Angeles
BEGIN:DAYLIGHT
TZOFFSETFROM:-0800
TZOFFSETTO:-0700
TZNAME:PDT
DTSTART:20220313T100000
END:DAYLIGHT
BEGIN:STANDARD
TZOFFSETFROM:-0700
TZOFFSETTO:-0800
TZNAME:PST
DTSTART:20221106T090000
END:STANDARD
END:VTIMEZONE
BEGIN:VEVENT
DTSTART;TZID=America/Los_Angeles:20220102T140000
DTEND;TZID=America/Los_Angeles:20220102T163000
DTSTAMP:20260423T223759
CREATED:20211226T025920Z
LAST-MODIFIED:20211226T030030Z
UID:5726-1641132000-1641141000@nbcds.org
SUMMARY:CANCELLED - Sebastopol ECD
DESCRIPTION:The January 2\, 2022 Sebastopol ECD has been cancelled due to current and trending COVID-19 case rates. \n
URL:https://nbcds.org/event/cancelled-sebastopol-ecd/
CATEGORIES:English Country Dance
ORGANIZER;CN="Tom%20Spittler":MAILTO:tspittler@gmail.com
END:VEVENT
BEGIN:VEVENT
DTSTART;TZID=America/Los_Angeles:20220102T183000
DTEND;TZID=America/Los_Angeles:20220102T213000
DTSTAMP:20260423T223759
CREATED:20211219T213823Z
LAST-MODIFIED:20211226T025651Z
UID:5678-1641148200-1641159000@nbcds.org
SUMMARY:CANCELLED - Petaluma Contra with Rodney Miller and Morgan Cochneuer; Erik Hoffman calling
DESCRIPTION:The January 2 Petaluma contra dance has been cancelled by the NBCDS Board of Directors due to current and trending COVID-19 case rates. \n \n  \n
URL:https://nbcds.org/event/january-2nd-petaluma-contra/
LOCATION:St. John’s Episcopal Church\, Petaluma\, 530 C Street\, Petaluma\, CA\, 94952\, United States
CATEGORIES:Contra Dances
GEO:38.007923;-122.536809
X-APPLE-STRUCTURED-LOCATION;VALUE=URI;X-ADDRESS=St. John’s Episcopal Church Petaluma 530 C Street Petaluma CA 94952 United States;X-APPLE-RADIUS=500;X-TITLE=530 C Street:geo:-122.536809,38.007923
END:VEVENT
END:VCALENDAR