BEGIN:VCALENDAR
VERSION:2.0
PRODID:-//North Bay Country Dance Society - ECPv5.0.3.1//NONSGML v1.0//EN
CALSCALE:GREGORIAN
METHOD:PUBLISH
X-WR-CALNAME:North Bay Country Dance Society
X-ORIGINAL-URL:https://nbcds.org
X-WR-CALDESC:Events for North Bay Country Dance Society
BEGIN:VTIMEZONE
TZID:America/Los_Angeles
BEGIN:DAYLIGHT
TZOFFSETFROM:-0800
TZOFFSETTO:-0700
TZNAME:PDT
DTSTART:20200308T100000
END:DAYLIGHT
BEGIN:STANDARD
TZOFFSETFROM:-0700
TZOFFSETTO:-0800
TZNAME:PST
DTSTART:20201101T090000
END:STANDARD
END:VTIMEZONE
BEGIN:VEVENT
DTSTART;TZID=America/Los_Angeles:20201219T190000
DTEND;TZID=America/Los_Angeles:20201219T200000
DTSTAMP:20260424T205043
CREATED:20201119T191936Z
LAST-MODIFIED:20201207T223802Z
UID:5385-1608404400-1608408000@nbcds.org
SUMMARY:Holiday Saturday Evening Waltz Party with Nils Fredland
DESCRIPTION:Holiday songs\, stories and dances with Nils Fredland from  Elixir.  \nSign up for our emails or Emil sarah@nbcds.org to get the link to join \n
URL:https://nbcds.org/event/holiday-saturday-evening-waltz-party-with-nils-fredland-anna-patton/
CATEGORIES:Contra Dances
ORGANIZER;CN="Sarah%20Lee":MAILTO:sarah@nbcds.org
END:VEVENT
END:VCALENDAR