BEGIN:VCALENDAR
VERSION:2.0
PRODID:-//North Bay Country Dance Society - ECPv5.0.3.1//NONSGML v1.0//EN
CALSCALE:GREGORIAN
METHOD:PUBLISH
X-WR-CALNAME:North Bay Country Dance Society
X-ORIGINAL-URL:https://nbcds.org
X-WR-CALDESC:Events for North Bay Country Dance Society
BEGIN:VTIMEZONE
TZID:America/Los_Angeles
BEGIN:DAYLIGHT
TZOFFSETFROM:-0800
TZOFFSETTO:-0700
TZNAME:PDT
DTSTART:20200308T100000
END:DAYLIGHT
BEGIN:STANDARD
TZOFFSETFROM:-0700
TZOFFSETTO:-0800
TZNAME:PST
DTSTART:20201101T090000
END:STANDARD
END:VTIMEZONE
BEGIN:VEVENT
DTSTART;TZID=America/Los_Angeles:20201212T190000
DTEND;TZID=America/Los_Angeles:20201212T200000
DTSTAMP:20260424T205914
CREATED:20201119T191812Z
LAST-MODIFIED:20201119T195358Z
UID:5383-1607799600-1607803200@nbcds.org
SUMMARY:Saturday Evening Waltz Party with Audrey Knuth & Ben Jaber
DESCRIPTION:Audrey and Ben were our first booked talent for the SEWP and they are favorites! This will be their third time playing for us and we couldn’t be more excited. Audrey is a talented fiddler who has electrified dance and concert halls across the US and Europe and now she has partnered with the talented Ben Jaber Principal Horn of the San Diego Symphony\, who also plays many other instruments and together they make lovely music! \n \nSign up for our emails or email sarah@nbcds.org to join \n
URL:https://nbcds.org/event/saturday-evening-waltz-party-with-audrey-knuth-ben-jaber/
CATEGORIES:Contra Dances
ORGANIZER;CN="Sarah%20Lee":MAILTO:sarah@nbcds.org
END:VEVENT
END:VCALENDAR