BEGIN:VCALENDAR
VERSION:2.0
PRODID:-//North Bay Country Dance Society - ECPv5.0.3.1//NONSGML v1.0//EN
CALSCALE:GREGORIAN
METHOD:PUBLISH
X-WR-CALNAME:North Bay Country Dance Society
X-ORIGINAL-URL:https://nbcds.org
X-WR-CALDESC:Events for North Bay Country Dance Society
BEGIN:VTIMEZONE
TZID:America/Los_Angeles
BEGIN:DAYLIGHT
TZOFFSETFROM:-0800
TZOFFSETTO:-0700
TZNAME:PDT
DTSTART:20200308T100000
END:DAYLIGHT
BEGIN:STANDARD
TZOFFSETFROM:-0700
TZOFFSETTO:-0800
TZNAME:PST
DTSTART:20201101T090000
END:STANDARD
END:VTIMEZONE
BEGIN:VEVENT
DTSTART;TZID=America/Los_Angeles:20201205T190000
DTEND;TZID=America/Los_Angeles:20201205T200000
DTSTAMP:20260424T204813
CREATED:20201119T191710Z
LAST-MODIFIED:20201121T044820Z
UID:5381-1607194800-1607198400@nbcds.org
SUMMARY:Saturday Evening Waltz Party with Pascal Gemme & Nicholas Williams of Genticorum
DESCRIPTION:Over the past 18 years the trad Quebec group Genticorum has become a fixture on the international world\, trad\, folk and Celtic music circuit. The band’s six albums met with critical acclaim in Canada\, the United States and Europe\, assuring the band a brilliant future. Known for its energy and its stage presence\, Genticorum has given more than a 1000 concerts in more than 15 countries. \nFirmly rooted in the soil of their native land\, the energetic and original traditional ‘power trio’ also incorporates the dynamism of today’s North American and European folk cultures in their music. They weave precise and intricate fiddle\, flute and accordion work\, gorgeous vocal harmonies\, energetic foot percussion and guitar accompaniment into a big and jubilant musical feast. Their distinctive sound\, sense of humour and stage presence makes them a supreme crowd pleaser. \nSign up for our emails or email sarah@nbcds.org to get the link to join \n
URL:https://nbcds.org/event/saturday-evening-waltz-party-with-pascal-nicolas-of-genticorum/
CATEGORIES:Contra Dances
ORGANIZER;CN="Sarah%20Lee":MAILTO:sarah@nbcds.org
END:VEVENT
END:VCALENDAR