BEGIN:VCALENDAR
VERSION:2.0
PRODID:-//North Bay Country Dance Society - ECPv5.0.3.1//NONSGML v1.0//EN
CALSCALE:GREGORIAN
METHOD:PUBLISH
X-WR-CALNAME:North Bay Country Dance Society
X-ORIGINAL-URL:https://nbcds.org
X-WR-CALDESC:Events for North Bay Country Dance Society
BEGIN:VTIMEZONE
TZID:America/Los_Angeles
BEGIN:DAYLIGHT
TZOFFSETFROM:-0800
TZOFFSETTO:-0700
TZNAME:PDT
DTSTART:20200308T100000
END:DAYLIGHT
BEGIN:STANDARD
TZOFFSETFROM:-0700
TZOFFSETTO:-0800
TZNAME:PST
DTSTART:20201101T090000
END:STANDARD
END:VTIMEZONE
BEGIN:VEVENT
DTSTART;TZID=America/Los_Angeles:20201128T190000
DTEND;TZID=America/Los_Angeles:20201128T200000
DTSTAMP:20260424T220922
CREATED:20201119T191556Z
LAST-MODIFIED:20201119T193443Z
UID:5379-1606590000-1606593600@nbcds.org
SUMMARY:Saturday Evening Waltz Party with Ashley Broder & Jeff Spero
DESCRIPTION:They call themselves the “Syncohalves” hard to say which two are the best combo…we’ve hosted various pairs but not these two together yet but we are looking forward to Ashley and Jeff! Scottish-based fiddling and the understated-but-monster picking of mandolinist Ashley Broder; whileJeff Spero provides wonderfully inventive and surprising piano accompaniment. \nSign up for our emails to get the link to join or email sarah@nbcds.org \n
URL:https://nbcds.org/event/saturday-evening-waltz-party-with-ashley-broder-jeff-spero/
CATEGORIES:Contra Dances
ORGANIZER;CN="Sarah%20Lee":MAILTO:sarah@nbcds.org
END:VEVENT
END:VCALENDAR