BEGIN:VCALENDAR
VERSION:2.0
PRODID:-//North Bay Country Dance Society - ECPv5.0.3.1//NONSGML v1.0//EN
CALSCALE:GREGORIAN
METHOD:PUBLISH
X-WR-CALNAME:North Bay Country Dance Society
X-ORIGINAL-URL:https://nbcds.org
X-WR-CALDESC:Events for North Bay Country Dance Society
BEGIN:VTIMEZONE
TZID:America/Los_Angeles
BEGIN:DAYLIGHT
TZOFFSETFROM:-0800
TZOFFSETTO:-0700
TZNAME:PDT
DTSTART:20200308T100000
END:DAYLIGHT
BEGIN:STANDARD
TZOFFSETFROM:-0700
TZOFFSETTO:-0800
TZNAME:PST
DTSTART:20201101T090000
END:STANDARD
END:VTIMEZONE
BEGIN:VEVENT
DTSTART;TZID=America/Los_Angeles:20201017T190000
DTEND;TZID=America/Los_Angeles:20201017T200000
DTSTAMP:20260424T233514
CREATED:20201006T131210Z
LAST-MODIFIED:20201006T131210Z
UID:5318-1602961200-1602964800@nbcds.org
SUMMARY:Saturday Evening Waltz Party with the Oshima Brothers
DESCRIPTION:Sign up for our emails to get the link to join our online waltz parties! \n
URL:https://nbcds.org/event/saturday-evening-waltz-party-with-the-oshima-brothers/
CATEGORIES:Contra Dances
ORGANIZER;CN="Sarah%20Lee":MAILTO:sarah@nbcds.org
END:VEVENT
END:VCALENDAR