BEGIN:VCALENDAR
VERSION:2.0
PRODID:-//North Bay Country Dance Society - ECPv5.0.3.1//NONSGML v1.0//EN
CALSCALE:GREGORIAN
METHOD:PUBLISH
X-WR-CALNAME:North Bay Country Dance Society
X-ORIGINAL-URL:https://nbcds.org
X-WR-CALDESC:Events for North Bay Country Dance Society
BEGIN:VTIMEZONE
TZID:America/Los_Angeles
BEGIN:DAYLIGHT
TZOFFSETFROM:-0800
TZOFFSETTO:-0700
TZNAME:PDT
DTSTART:20200308T100000
END:DAYLIGHT
BEGIN:STANDARD
TZOFFSETFROM:-0700
TZOFFSETTO:-0800
TZNAME:PST
DTSTART:20201101T090000
END:STANDARD
END:VTIMEZONE
BEGIN:VEVENT
DTSTART;TZID=America/Los_Angeles:20200926T190000
DTEND;TZID=America/Los_Angeles:20200926T200000
DTSTAMP:20260425T005122
CREATED:20200913T153808Z
LAST-MODIFIED:20200913T153808Z
UID:5297-1601146800-1601150400@nbcds.org
SUMMARY:Saturday Evening Waltz Party with Elsie Gawler & Ethan Stokes Tischler
DESCRIPTION:Elsie Gawler and Ethan Stokes Tischler deliver original and traditional songs and tunes that come straight from the heart. These New England based songsters\, on fiddle\, guitar\, vocals\, cello\, and banjo\, bring together their unique musical backgrounds\, ranging from a lifetime of New England contra dance music to South Indian singing and more\, to create a rich original sound that is alive with their love for the music they make together. Elsie and Ethan have each shared their music and spirits with audiences across New England and beyond while maintaining a deeply rooted connection to the thriving Vermont and Maine based folk music communities from which they’ve emerged. Learn more about their music on their facebook page https://www.facebook.com/elsieandethan\nAs well as their respective projects\, including as Elsie’s newly released album\, at elsiegawler.com and https://www.patreon.com/ethanstokestischler\n\n\ntip jar:\nhttps://www.paypal.com/paypalme/elsieandethan\nhttps://venmo.com/elsie-gawler\n\n\nSign up for our emails to get the link to join!\n
URL:https://nbcds.org/event/saturday-evening-waltz-party-with-elsie-gawler-ethan-stokes-tischler/
CATEGORIES:Contra Dances
ORGANIZER;CN="Sarah%20Lee":MAILTO:sarah@nbcds.org
END:VEVENT
END:VCALENDAR