BEGIN:VCALENDAR
VERSION:2.0
PRODID:-//North Bay Country Dance Society - ECPv5.0.3.1//NONSGML v1.0//EN
CALSCALE:GREGORIAN
METHOD:PUBLISH
X-WR-CALNAME:North Bay Country Dance Society
X-ORIGINAL-URL:https://nbcds.org
X-WR-CALDESC:Events for North Bay Country Dance Society
BEGIN:VTIMEZONE
TZID:America/Los_Angeles
BEGIN:DAYLIGHT
TZOFFSETFROM:-0800
TZOFFSETTO:-0700
TZNAME:PDT
DTSTART:20200308T100000
END:DAYLIGHT
BEGIN:STANDARD
TZOFFSETFROM:-0700
TZOFFSETTO:-0800
TZNAME:PST
DTSTART:20201101T090000
END:STANDARD
END:VTIMEZONE
BEGIN:VEVENT
DTSTART;TZID=America/Los_Angeles:20200725T190000
DTEND;TZID=America/Los_Angeles:20200725T200000
DTSTAMP:20260425T034500
CREATED:20200715T161250Z
LAST-MODIFIED:20200722T151519Z
UID:5174-1595703600-1595707200@nbcds.org
SUMMARY:Saturday Evening Waltz Party with Max Newman\, Cedar Stanistreet and Peter Seigel
DESCRIPTION:Peter Seigel (mandolin\, guitar) Brattleboro\,VT\nCedar Stanistreet (fiddle) Brattleboro\, VT\nMax Newman (guitar) Boston\, MA \nThis trio will play waltzes and other tunes. They are fabulous musicians getting together to play this special concert for us! \nProgram:\n7-7:25 Music and Waltzing\n7:25-7:35 Break: Unmute and introduce yourself\n7:35-8 more music \nSaturday Evening Waltz Party with Cedar\, Max and Peter\nTime: Jul 25\, 2020 07:00 PM Pacific Time (US and Canada) \nJoin Zoom Meeting\nhttps://us02web.zoom.us/j/86830964528?pwd=RWUyNWVzZUlkdExFeFNrdGFPT3Y0UT09 \nMeeting ID: 868 3096 4528\nPasscode: 123990\nOne tap mobile\n+16699009128\,\,86830964528#\,\,\,\,\,\,0#\,\,123990# US (San Jose)\n+12532158782\,\,86830964528#\,\,\,\,\,\,0#\,\,123990# US (Tacoma) \nDial by your location\n        +1 669 900 9128 US (San Jose)\n        +1 253 215 8782 US (Tacoma)\n        +1 346 248 7799 US (Houston)\n        +1 312 626 6799 US (Chicago)\n        +1 646 558 8656 US (New York)\n        +1 301 715 8592 US (Germantown)\nMeeting ID: 868 3096 4528\nPasscode: 123990\nFind your local number: https://us02web.zoom.us/u/kRtZnqYUi\n \n
URL:https://nbcds.org/event/saturday-evening-waltz-party-with-max-newman-cedar-stanistreet-and-peter-seigel/
CATEGORIES:Contra Dances
ORGANIZER;CN="Sarah%20Lee":MAILTO:sarah@nbcds.org
END:VEVENT
END:VCALENDAR