BEGIN:VCALENDAR
VERSION:2.0
PRODID:-//North Bay Country Dance Society - ECPv5.0.3.1//NONSGML v1.0//EN
CALSCALE:GREGORIAN
METHOD:PUBLISH
X-WR-CALNAME:North Bay Country Dance Society
X-ORIGINAL-URL:https://nbcds.org
X-WR-CALDESC:Events for North Bay Country Dance Society
BEGIN:VTIMEZONE
TZID:America/Los_Angeles
BEGIN:DAYLIGHT
TZOFFSETFROM:-0800
TZOFFSETTO:-0700
TZNAME:PDT
DTSTART:20200308T100000
END:DAYLIGHT
BEGIN:STANDARD
TZOFFSETFROM:-0700
TZOFFSETTO:-0800
TZNAME:PST
DTSTART:20201101T090000
END:STANDARD
END:VTIMEZONE
BEGIN:VEVENT
DTSTART;TZID=America/Los_Angeles:20200718T190000
DTEND;TZID=America/Los_Angeles:20200718T200000
DTSTAMP:20260425T034500
CREATED:20200604T150357Z
LAST-MODIFIED:20200715T161425Z
UID:5083-1595098800-1595102400@nbcds.org
SUMMARY:Saturday Evening Waltz Party with IN Tent City on Zoom
DESCRIPTION:In Tent City is a family band- Betz (violin)\, Seth (bass and piano)\, Graham (guitar) and David (percussion)\nThey are getting together to play this waltz and more concert for us!  \nhttps://contraintentcity.weebly.com \nThey played at Catalina Dance weekend\, toured playing for contra dances across the country as well as many house concerts. Classically trained now playing a variety of folk\, bluegrass\, old time\, oldies. You won’t want to miss them.  \nEveryone is welcome! Please invite your friends you miss dancing with. \nPlease stay muted during the music portions. \n7-7:25 music\n7:25-7:35 Unmute and introduce yourself\, say hi\n7:35-8 more \nTip Jar:\nIn Tent City\nPaypal: paypal.me/DavidRichards9\nAddress: \n‪1667 W. Brigadoon Park Dr.‬\n‪West Jordan\, UT 84088‬ \nSound tech Audrey Knuth\nPaypal:  https://www.paypal.me/AudreyKnuth\nVenmo handle: @Audrey-Knuth \nTopic: Saturday Evening Waltz Party with In Tent City\nTime: Jul 18\, 2020 07:00 PM Pacific Time (US and Canada) \nJoin Zoom Meeting\nhttps://us02web.zoom.us/j/84054055934?pwd=ZmtJYzZaUnllQUlVV01xRzUrK0Vpdz09 \nMeeting ID: 840 5405 5934\nPassword: 506874\nOne tap mobile\n+16699009128\,\,84054055934#\,\,\,\,0#\,\,506874# US (San Jose)\n+12532158782\,\,84054055934#\,\,\,\,0#\,\,506874# US (Tacoma) \nDial by your location\n        +1 669 900 9128 US (San Jose)\n        +1 253 215 8782 US (Tacoma)\n        +1 346 248 7799 US (Houston)\n        +1 312 626 6799 US (Chicago)\n        +1 646 558 8656 US (New York)\n        +1 301 715 8592 US (Germantown)\nMeeting ID: 840 5405 5934\nPassword: 506874\nFind your local number: https://us02web.zoom.us/u/kRtZnqYUi \n
URL:https://nbcds.org/event/saturday-evening-waltz-party-with-in-tent-city-on-zoom/
CATEGORIES:Contra Dances
ORGANIZER;CN="Sarah%20Lee":MAILTO:sarah@nbcds.org
END:VEVENT
END:VCALENDAR