BEGIN:VCALENDAR
VERSION:2.0
PRODID:-//North Bay Country Dance Society - ECPv5.0.3.1//NONSGML v1.0//EN
CALSCALE:GREGORIAN
METHOD:PUBLISH
X-WR-CALNAME:North Bay Country Dance Society
X-ORIGINAL-URL:https://nbcds.org
X-WR-CALDESC:Events for North Bay Country Dance Society
BEGIN:VTIMEZONE
TZID:America/Los_Angeles
BEGIN:DAYLIGHT
TZOFFSETFROM:-0800
TZOFFSETTO:-0700
TZNAME:PDT
DTSTART:20200308T100000
END:DAYLIGHT
BEGIN:STANDARD
TZOFFSETFROM:-0700
TZOFFSETTO:-0800
TZNAME:PST
DTSTART:20201101T090000
END:STANDARD
END:VTIMEZONE
BEGIN:VEVENT
DTSTART;TZID=America/Los_Angeles:20200711T190000
DTEND;TZID=America/Los_Angeles:20200711T200000
DTSTAMP:20260425T034507
CREATED:20200604T150232Z
LAST-MODIFIED:20200710T220707Z
UID:5081-1594494000-1594497600@nbcds.org
SUMMARY:Saturday Evening Party-Rodney Miller Tunebook Kickoff Party!
DESCRIPTION:“THE MERRY LOVE THE FIDDLE\n  AND THE MERRY LOVE TO DANCE” \n     This quote from W.B. Yeats’ poem ‘The Fiddler of Dooney’ captures the essence of the upcoming NBCDS Variety Hour\, Sat. July 11\, 7-8pm\, featuring National Endowment for the Arts Master Fiddler\, Rodney Miller.\n     Rodney has played fiddle since the age of seven and has traveled the world over\,  seeing it uniquely through the perspective of a dance musician. Appointed and served as New Hampshire Artist Laureate\, 2014-2016\, he has written over 250 fiddle tunes\, drawing inspiration from Prose\,\nPoetry\, Philosophers and Places. Rodney is nearing publication of a tune book containing his original compositions replete with stories\, anecdotes and inspirations for each tune.\n     Rodney Miller\, in sponsorship with NBCDS\, invite you to join in and experience an incredible musical journey through the mind of a Master Fiddler. \nRodney has started a GoFundMe campaign for his Tunebook\, tips can go there! \nJoin us on Zoom at 7 pm PT \nRodney Miller Tunebook Kickoff Party\nTime: Jul 11\, 2020 07:00 PM Pacific Time (US and Canada) \nJoin Zoom Meeting\nhttps://us02web.zoom.us/j/81364005732?pwd=Y0l2MUJTd2dhcm1qai9wSi9zWXRkQT09 \nMeeting ID: 813 6400 5732\nPassword: 931366\nOne tap mobile\n+16699009128\,\,81364005732#\,\,\,\,0#\,\,931366# US (San Jose)\n+12532158782\,\,81364005732#\,\,\,\,0#\,\,931366# US (Tacoma) \nDial by your location\n        +1 669 900 9128 US (San Jose)\n        +1 253 215 8782 US (Tacoma)\n        +1 346 248 7799 US (Houston)\n        +1 301 715 8592 US (Germantown)\n        +1 312 626 6799 US (Chicago)\n        +1 646 558 8656 US (New York)\nMeeting ID: 813 6400 5732\nPassword: 931366\nFind your local number: https://us02web.zoom.us/u/kRtZnqYUi \n
URL:https://nbcds.org/event/saturday-evening-party-rodney-miller-tunebook-kickoff-party/
CATEGORIES:Contra Dances
ATTACH;FMTTYPE=image/jpeg:https://nbcds.org/wp-content/uploads/2020/06/B8C401A9-C048-43B6-BCBF-9EBFECCBB29C-scaled.jpeg
ORGANIZER;CN="Sarah%20Lee":MAILTO:sarah@nbcds.org
END:VEVENT
END:VCALENDAR